BEGIN:VCALENDAR
VERSION:2.0
PRODID:-//Corvette Club of Rhode Island - ECPv6.15.20//NONSGML v1.0//EN
CALSCALE:GREGORIAN
METHOD:PUBLISH
X-ORIGINAL-URL:https://corvetteclubofrhodeisland.com
X-WR-CALDESC:Events for Corvette Club of Rhode Island
REFRESH-INTERVAL;VALUE=DURATION:PT1H
X-Robots-Tag:noindex
X-PUBLISHED-TTL:PT1H
BEGIN:VTIMEZONE
TZID:America/New_York
BEGIN:DAYLIGHT
TZOFFSETFROM:-0500
TZOFFSETTO:-0400
TZNAME:EDT
DTSTART:20250309T070000
END:DAYLIGHT
BEGIN:STANDARD
TZOFFSETFROM:-0400
TZOFFSETTO:-0500
TZNAME:EST
DTSTART:20251102T060000
END:STANDARD
BEGIN:DAYLIGHT
TZOFFSETFROM:-0500
TZOFFSETTO:-0400
TZNAME:EDT
DTSTART:20260308T070000
END:DAYLIGHT
BEGIN:STANDARD
TZOFFSETFROM:-0400
TZOFFSETTO:-0500
TZNAME:EST
DTSTART:20261101T060000
END:STANDARD
BEGIN:DAYLIGHT
TZOFFSETFROM:-0500
TZOFFSETTO:-0400
TZNAME:EDT
DTSTART:20270314T070000
END:DAYLIGHT
BEGIN:STANDARD
TZOFFSETFROM:-0400
TZOFFSETTO:-0500
TZNAME:EST
DTSTART:20271107T060000
END:STANDARD
END:VTIMEZONE
BEGIN:VEVENT
DTSTART;TZID=America/New_York:20260525T100000
DTEND;TZID=America/New_York:20260525T130000
DTSTAMP:20260423T134522
CREATED:20260421T165626Z
LAST-MODIFIED:20260421T165626Z
UID:4960-1779703200-1779714000@corvetteclubofrhodeisland.com
SUMMARY:Memorial Day Parade
DESCRIPTION:LINCOLN PARADE – MEMBER PETER DIBONAVENTURA (HOSTING) \nMEET AT 80 Higginson Avenue\, Lincoln\, RI \nAt: 9:30-10:00 A.M. LINE UP \nMEMBERS CAN BRING CANDY TO THROW OUT TO CROWD \nDECORATE YOUR CAR RED WHITE AND BLUE \nIf you are interested in attending this year’s parade\, we are only doing \n(1) parade this year so that all Members can enjoy their family and \nfriends on Memorial Day. \nThere will be a sign-up sheet at the May meeting. \nThis is always a fun time\, and we love supporting PETER D. \nFlyer Here:
URL:https://corvetteclubofrhodeisland.com/event/memorial-day-parade/
ATTACH;FMTTYPE=image/png:https://corvetteclubofrhodeisland.com/wp-content/uploads/Mem-day-parade.png
END:VEVENT
END:VCALENDAR