BEGIN:VCALENDAR
VERSION:2.0
PRODID:-//Corvette Club of Rhode Island - ECPv6.15.20//NONSGML v1.0//EN
CALSCALE:GREGORIAN
METHOD:PUBLISH
X-WR-CALNAME:Corvette Club of Rhode Island
X-ORIGINAL-URL:https://corvetteclubofrhodeisland.com
X-WR-CALDESC:Events for Corvette Club of Rhode Island
REFRESH-INTERVAL;VALUE=DURATION:PT1H
X-Robots-Tag:noindex
X-PUBLISHED-TTL:PT1H
BEGIN:VTIMEZONE
TZID:America/New_York
BEGIN:DAYLIGHT
TZOFFSETFROM:-0500
TZOFFSETTO:-0400
TZNAME:EDT
DTSTART:20240310T070000
END:DAYLIGHT
BEGIN:STANDARD
TZOFFSETFROM:-0400
TZOFFSETTO:-0500
TZNAME:EST
DTSTART:20241103T060000
END:STANDARD
BEGIN:DAYLIGHT
TZOFFSETFROM:-0500
TZOFFSETTO:-0400
TZNAME:EDT
DTSTART:20250309T070000
END:DAYLIGHT
BEGIN:STANDARD
TZOFFSETFROM:-0400
TZOFFSETTO:-0500
TZNAME:EST
DTSTART:20251102T060000
END:STANDARD
BEGIN:DAYLIGHT
TZOFFSETFROM:-0500
TZOFFSETTO:-0400
TZNAME:EDT
DTSTART:20260308T070000
END:DAYLIGHT
BEGIN:STANDARD
TZOFFSETFROM:-0400
TZOFFSETTO:-0500
TZNAME:EST
DTSTART:20261101T060000
END:STANDARD
END:VTIMEZONE
BEGIN:VEVENT
DTSTART;TZID=America/New_York:20250803T080000
DTEND;TZID=America/New_York:20250803T130000
DTSTAMP:20260424T010519
CREATED:20250729T211326Z
LAST-MODIFIED:20250729T211436Z
UID:4840-1754208000-1754226000@corvetteclubofrhodeisland.com
SUMMARY:Club Corvette of Ct annual show
DESCRIPTION:Each summer\, Club Corvette of Connecticut conducts one of the largest Corvette-only judged shows in the Northeast. For several years\, the event has featured more than 250 examples of Corvettes in varying vintages and styles\, representing all facets of the model’s 72 year history. Cars on display range from original C1s from the 1950s\, to all sorts of modified ‘Vettes\, to the newest mid-engine C8s. \nThe public is invited to come and experience in person the quintessential American sports car and its rich history. Vendors will be on-site offering Corvette and automotive memorabilia for sale; a variety of foods\, beverages and other refreshments should also be available for purchase. \nNet proceeds from the show are donated to the club’s adopted charity\, The Ronald McDonald House\, and other Connecticut charities. \nShow flyer here:
URL:https://corvetteclubofrhodeisland.com/event/4840/
LOCATION:Moroso Performance Products\, 80 Carter Dr\, Guilford\, CT\, 06437\, United States
ATTACH;FMTTYPE=image/jpeg:https://corvetteclubofrhodeisland.com/wp-content/uploads/Unknown.jpeg
END:VEVENT
BEGIN:VEVENT
DTSTART;TZID=America/New_York:20250813T173000
DTEND;TZID=America/New_York:20250813T200000
DTSTAMP:20260424T010519
CREATED:20250807T141225Z
LAST-MODIFIED:20250807T141225Z
UID:4833-1755106200-1755115200@corvetteclubofrhodeisland.com
SUMMARY:Sunset Cruise
DESCRIPTION:🌅 Join Us for This Week’s Sunset Cruise! \nCruise with us to to Goddard State Park for an unforgettable summer evening by the water. Relax\, enjoy the views\, and spend time with great friends. \n🗓 Date: Wednesday\, August 13 \n📍 Meeting Location: Park & Ride Exit 19 off RT 95 \n🕔 Meet at: 5:00 PM \n🚗 Departure: 5:30 PM \n🚘 Ride led by Denny & Linda Langlois \nBring your chairs\, snacks\, and beverages—and don’t forget your camera! \nWe look forward to another beautiful Rhode Island sunset together.
URL:https://corvetteclubofrhodeisland.com/event/sunset-cruise-13/
LOCATION:Goddard Park\, 1095 Ives Rd\, Warwick\, RI\, 02818\, United States
ATTACH;FMTTYPE=image/jpeg:https://corvetteclubofrhodeisland.com/wp-content/uploads/Sunset-Cruise-.jpg
END:VEVENT
END:VCALENDAR