BEGIN:VCALENDAR
VERSION:2.0
PRODID:-//Corvette Club of Rhode Island - ECPv6.15.20//NONSGML v1.0//EN
CALSCALE:GREGORIAN
METHOD:PUBLISH
X-ORIGINAL-URL:https://corvetteclubofrhodeisland.com
X-WR-CALDESC:Events for Corvette Club of Rhode Island
REFRESH-INTERVAL;VALUE=DURATION:PT1H
X-Robots-Tag:noindex
X-PUBLISHED-TTL:PT1H
BEGIN:VTIMEZONE
TZID:America/New_York
BEGIN:DAYLIGHT
TZOFFSETFROM:-0500
TZOFFSETTO:-0400
TZNAME:EDT
DTSTART:20240310T070000
END:DAYLIGHT
BEGIN:STANDARD
TZOFFSETFROM:-0400
TZOFFSETTO:-0500
TZNAME:EST
DTSTART:20241103T060000
END:STANDARD
BEGIN:DAYLIGHT
TZOFFSETFROM:-0500
TZOFFSETTO:-0400
TZNAME:EDT
DTSTART:20250309T070000
END:DAYLIGHT
BEGIN:STANDARD
TZOFFSETFROM:-0400
TZOFFSETTO:-0500
TZNAME:EST
DTSTART:20251102T060000
END:STANDARD
BEGIN:DAYLIGHT
TZOFFSETFROM:-0500
TZOFFSETTO:-0400
TZNAME:EDT
DTSTART:20260308T070000
END:DAYLIGHT
BEGIN:STANDARD
TZOFFSETFROM:-0400
TZOFFSETTO:-0500
TZNAME:EST
DTSTART:20261101T060000
END:STANDARD
END:VTIMEZONE
BEGIN:VEVENT
DTSTART;TZID=America/New_York:20250712T110000
DTEND;TZID=America/New_York:20250712T153000
DTSTAMP:20260424T024305
CREATED:20250605T154926Z
LAST-MODIFIED:20250605T160442Z
UID:4804-1752318000-1752334200@corvetteclubofrhodeisland.com
SUMMARY:BBQ at Thompson Speedway
DESCRIPTION:Don’t miss this fun day at Thompson Speedway. \nIn this event\, you will follow a pace car on  the track for  about 3 laps around the 1.7-mile road course (depending on how many cars we have attending). We will then have a BBQ luncheon in the dining area. There is no limit on this event but please contact Deb Papineau  @ debbieccri@gmail.com  so she can keep track of ordering meals etc. \nWe will be meeting at the Dunkin on Chopmist Hill Rd in N. Scituate at 10 am leaving at 10:30. Meal and pricing is on the attached flyer. \nEvent flyer here: \n 
URL:https://corvetteclubofrhodeisland.com/event/bbq-at-thompson-speedway-2/
LOCATION:Thompson Speedway\, 205E Thompson Rd\, CT\, 06277\, United States
ATTACH;FMTTYPE=image/png:https://corvetteclubofrhodeisland.com/wp-content/uploads/Thompson-Speedway-logo.png
END:VEVENT
BEGIN:VEVENT
DTSTART;TZID=America/New_York:20250716T170000
DTEND;TZID=America/New_York:20250716T200000
DTSTAMP:20260424T024305
CREATED:20230628T173630Z
LAST-MODIFIED:20250714T135335Z
UID:4330-1752685200-1752696000@corvetteclubofrhodeisland.com
SUMMARY:Sunset Cruise Colt State Park
DESCRIPTION:The Sunset Cruise originally scheduled for last Wednesday—cancelled due to inclement weather—has been rescheduled to Wednesday July 16th! \nJoin us for a relaxing summer evening cruise to the beautiful Colt State Park in Bristol\, RI. \nBring your snacks\, drinks\, and chairs\, and enjoy the ocean breeze and a stunning seaside sunset with friends. \n📍 Meeting Location: \nCardi’s Furniture Parking Lot \nExit 5 off Rt. 195E – Swansea\, MA \n🕔 Meet at 5:00 PM  Wed July 16 \n🚗 Leave at 5:30 PM Sharp \n👫 Hosted by: Ron & Marie Alves \nDon’t miss this peaceful and scenic ride – we hope to see you there! \n\n\n\n 
URL:https://corvetteclubofrhodeisland.com/event/sunset-cruise-5/
LOCATION:Colt State Park\, Asylum Rd\, Bristol\, RI\, 02809\, United States
ATTACH;FMTTYPE=image/jpeg:https://corvetteclubofrhodeisland.com/wp-content/uploads/Sunset-Cruise-.jpg
END:VEVENT
BEGIN:VEVENT
DTSTART;TZID=America/New_York:20250720T110000
DTEND;TZID=America/New_York:20250720T170000
DTSTAMP:20260424T024305
CREATED:20250507T160406Z
LAST-MODIFIED:20250719T151217Z
UID:4783-1753009200-1753030800@corvetteclubofrhodeisland.com
SUMMARY:CCRI Club Picnic
DESCRIPTION:Unfortunately\, I must announce that Sunday’s Club Picnic has been cancelled due to the forecast of possible rain throughout the day.\n  \nThe Picnic is scheduled for  Sunday July 20th 2025 11am until whatever. \nYou are welcomed to either tailgate\, and bring food\,or a food  and ice cream truck will be available. \nFamily and friends are welcomed \nGames are welcomed as well \nFlyer Here: \n  \n  \n  \n  \nAny Questions\, please do not hesitate to contact Liliana V. Dolan at ccofri@gmail.com
URL:https://corvetteclubofrhodeisland.com/event/ccri-club-picnic/
LOCATION:Masonic Youth Center\, 116 Long Street\, Warwick\, RI\, 02886\, United States
ATTACH;FMTTYPE=image/png:https://corvetteclubofrhodeisland.com/wp-content/uploads/Screenshot-2025-05-07-at-12.05.38 PM.png
END:VEVENT
BEGIN:VEVENT
DTSTART;TZID=America/New_York:20250728T173000
DTEND;TZID=America/New_York:20250728T200000
DTSTAMP:20260424T024305
CREATED:20250728T221242Z
LAST-MODIFIED:20250728T221242Z
UID:4836-1753723800-1753732800@corvetteclubofrhodeisland.com
SUMMARY:Sunset Cruise to Fort Wetherill
DESCRIPTION:🌅 Join Us for This Week’s Sunset Cruise! \nCruise with us to the scenic Fort Wetherill in Jamestown for an unforgettable summer evening by the water. Relax\, enjoy the views\, and spend time with great friends. \n🗓 Date: Wednesday\, July 30 \n📍 Meeting Location: RI Veterans Cemetery\, Exeter \n🕔 Meet at: 5:00 PM \n🚗 Departure: 5:30 PM \n🚘 Ride led by Rick and Connie Lyons \nBring your chairs\, snacks\, and beverages—and don’t forget your camera! \nWe look forward to another beautiful Rhode Island sunset together.
URL:https://corvetteclubofrhodeisland.com/event/sunset-cruise-to-fort-wetherill/
LOCATION:Fort Wetherill\, 3 Fort Wetherill Rd\, Jamestown\, RI\, 02835\, United States
ATTACH;FMTTYPE=image/jpeg:https://corvetteclubofrhodeisland.com/wp-content/uploads/Sunset-Cruise-.jpg
END:VEVENT
END:VCALENDAR