BEGIN:VCALENDAR
VERSION:2.0
PRODID:-//Corvette Club of Rhode Island - ECPv6.15.20//NONSGML v1.0//EN
CALSCALE:GREGORIAN
METHOD:PUBLISH
X-WR-CALNAME:Corvette Club of Rhode Island
X-ORIGINAL-URL:https://corvetteclubofrhodeisland.com
X-WR-CALDESC:Events for Corvette Club of Rhode Island
REFRESH-INTERVAL;VALUE=DURATION:PT1H
X-Robots-Tag:noindex
X-PUBLISHED-TTL:PT1H
BEGIN:VTIMEZONE
TZID:America/New_York
BEGIN:DAYLIGHT
TZOFFSETFROM:-0500
TZOFFSETTO:-0400
TZNAME:EDT
DTSTART:20230312T070000
END:DAYLIGHT
BEGIN:STANDARD
TZOFFSETFROM:-0400
TZOFFSETTO:-0500
TZNAME:EST
DTSTART:20231105T060000
END:STANDARD
BEGIN:DAYLIGHT
TZOFFSETFROM:-0500
TZOFFSETTO:-0400
TZNAME:EDT
DTSTART:20240310T070000
END:DAYLIGHT
BEGIN:STANDARD
TZOFFSETFROM:-0400
TZOFFSETTO:-0500
TZNAME:EST
DTSTART:20241103T060000
END:STANDARD
BEGIN:DAYLIGHT
TZOFFSETFROM:-0500
TZOFFSETTO:-0400
TZNAME:EDT
DTSTART:20250309T070000
END:DAYLIGHT
BEGIN:STANDARD
TZOFFSETFROM:-0400
TZOFFSETTO:-0500
TZNAME:EST
DTSTART:20251102T060000
END:STANDARD
END:VTIMEZONE
BEGIN:VEVENT
DTSTART;TZID=America/New_York:20240713T110000
DTEND;TZID=America/New_York:20240713T153000
DTSTAMP:20260424T233302
CREATED:20240501T180930Z
LAST-MODIFIED:20240501T181136Z
UID:4561-1720868400-1720884600@corvetteclubofrhodeisland.com
SUMMARY:Birthday Celebration Picnic 2024
DESCRIPTION:WHEN: SATURDAY\, JULY 13\, 2024 \nTIME: 11:00 TO 3:00 P.M. \nWHERE: MASONIC YOUTH CENTER \n110 LONG STREET\, WARWICK\, RI  \nFOOD TRUCKS\, LIBATION TRUCK\, RAFFLES\, GAMES\, CARS\, CAKE\, AND BEAUTIFUL PEOPLE \nNOTHING TO BRING BUT YOURSELVES  \nPICNIC TABLES ON PREMISES \nBRING FAMILY MEMBERS IF YOU WISH \nWEATHER PERMITTING THIS WILL BE A FUN-FILLED DAY! \nTHERE IS “NO” RAIN DATE FOR THIS EVENT \nContact for more info: Liliana Dolan: ccofri@gmail.com
URL:https://corvetteclubofrhodeisland.com/event/birthday-celebration-picnic-2024/
LOCATION:Masonic Youth Center\, 116 Long Street\, Warwick\, RI\, 02886\, United States
ATTACH;FMTTYPE=image/jpeg:https://corvetteclubofrhodeisland.com/wp-content/uploads/Masonic-youth-center.jpeg
END:VEVENT
BEGIN:VEVENT
DTSTART;TZID=America/New_York:20240714T080000
DTEND;TZID=America/New_York:20240714T100000
DTSTAMP:20260424T233302
CREATED:20210505T185848Z
LAST-MODIFIED:20240707T182152Z
UID:3746-1720944000-1720951200@corvetteclubofrhodeisland.com
SUMMARY:Audrain Cars and Coffee
DESCRIPTION:This great summer event will return to Newport this year with multiple dates. \nA couple of reminders for the 2024 Season:\nFor Audrain Members\, registration will open the Monday before each of the Cars & Coffee events and public registration will open on the Wednesday before each of the Cars & Coffee events. In order to register for one of our Cars & Coffee events\, you must be subscribed to our email list. \nYou can register for any of the Cars & Coffee events through our website or over the phone. 401 856-4420    https://www.audrainautomuseum.org/cars-and-coffee-2024 \n·         Only VEHICLES are required to register for the event. Guests of drivers\, and spectators do not need to register. \nTo attend you have to pre-register. Club Members Connie & Rick Lyons will lead the group each time and may be contacted @(401) 419-4723 \nEvent flyer: Schedule
URL:https://corvetteclubofrhodeisland.com/event/audrain-cars-and-coffee-2/
LOCATION:Gardner Seveney Sports Complex\, 110-298 Linden Ln\, Portsmouth\, RI\, 02871\, United States
ATTACH;FMTTYPE=image/png:https://corvetteclubofrhodeisland.com/wp-content/uploads/Unknown.png
END:VEVENT
BEGIN:VEVENT
DTSTART;TZID=America/New_York:20240714T080000
DTEND;TZID=America/New_York:20240714T160000
DTSTAMP:20260424T233302
CREATED:20240702T193539Z
LAST-MODIFIED:20240702T193643Z
UID:4598-1720944000-1720972800@corvetteclubofrhodeisland.com
SUMMARY:Corvette Show and Swap Meet
DESCRIPTION:Each summer\, Club Corvette of Connecticut conducts one of the largest Corvette-only judged shows in the Northeast. For several years\, the event has featured more than 250 examples of Corvettes in varying vintages and styles\, representing all facets of the model’s 65-year history. Cars on display range from original C1s from the 1950s\, to all sorts of modified ‘Vettes\, to the newest mid-engine C8s. \nThe public is invited to come and experience in person the quintessential American sports car and its rich history. Vendors will be on-site offering Corvette and automotive memorabilia for sale; a variety of foods\, beverages and other refreshments should also be available for purchase. \nNet proceeds from the show are donated to the club’s adopted charity\, The Ronald McDonald House\, and other Connecticut charities. \nFlyer here: Corvette show and swap meet
URL:https://corvetteclubofrhodeisland.com/event/corvette-show-and-swap-meet-3/
LOCATION:Moroso Performance Products\, 80 Carter Dr\, Guilford\, CT\, 06437\, United States
ATTACH;FMTTYPE=image/jpeg:https://corvetteclubofrhodeisland.com/wp-content/uploads/Unknown.jpeg
END:VEVENT
BEGIN:VEVENT
DTSTART;TZID=America/New_York:20240727T103000
DTEND;TZID=America/New_York:20240727T170000
DTSTAMP:20260424T233302
CREATED:20240603T185230Z
LAST-MODIFIED:20240603T185230Z
UID:4577-1722076200-1722099600@corvetteclubofrhodeisland.com
SUMMARY:Kimball Farms Cruise
DESCRIPTION:    Join us for a scenic cruise to Kimball Farms in Lancaster Mass. Home of famous fried foods and delicious ice cream served in huge quantities.\n      Ride and date information is located on the flyer here:  Kimball farms\n 
URL:https://corvetteclubofrhodeisland.com/event/kimball-farms-cruise/
LOCATION:Kimball Farm\, 1543 Lunenburg Rd\, Lancaster\, MA\, 01523\, United States
ATTACH;FMTTYPE=image/jpeg:https://corvetteclubofrhodeisland.com/wp-content/uploads/Kimball-farms-copy.jpeg
END:VEVENT
END:VCALENDAR