BEGIN:VCALENDAR
VERSION:2.0
PRODID:-//Corvette Club of Rhode Island - ECPv6.15.20//NONSGML v1.0//EN
CALSCALE:GREGORIAN
METHOD:PUBLISH
X-WR-CALNAME:Corvette Club of Rhode Island
X-ORIGINAL-URL:https://corvetteclubofrhodeisland.com
X-WR-CALDESC:Events for Corvette Club of Rhode Island
REFRESH-INTERVAL;VALUE=DURATION:PT1H
X-Robots-Tag:noindex
X-PUBLISHED-TTL:PT1H
BEGIN:VTIMEZONE
TZID:America/New_York
BEGIN:DAYLIGHT
TZOFFSETFROM:-0500
TZOFFSETTO:-0400
TZNAME:EDT
DTSTART:20210314T070000
END:DAYLIGHT
BEGIN:STANDARD
TZOFFSETFROM:-0400
TZOFFSETTO:-0500
TZNAME:EST
DTSTART:20211107T060000
END:STANDARD
BEGIN:DAYLIGHT
TZOFFSETFROM:-0500
TZOFFSETTO:-0400
TZNAME:EDT
DTSTART:20220313T070000
END:DAYLIGHT
BEGIN:STANDARD
TZOFFSETFROM:-0400
TZOFFSETTO:-0500
TZNAME:EST
DTSTART:20221106T060000
END:STANDARD
BEGIN:DAYLIGHT
TZOFFSETFROM:-0500
TZOFFSETTO:-0400
TZNAME:EDT
DTSTART:20230312T070000
END:DAYLIGHT
BEGIN:STANDARD
TZOFFSETFROM:-0400
TZOFFSETTO:-0500
TZNAME:EST
DTSTART:20231105T060000
END:STANDARD
BEGIN:DAYLIGHT
TZOFFSETFROM:-0500
TZOFFSETTO:-0400
TZNAME:EDT
DTSTART:20240310T070000
END:DAYLIGHT
BEGIN:STANDARD
TZOFFSETFROM:-0400
TZOFFSETTO:-0500
TZNAME:EST
DTSTART:20241103T060000
END:STANDARD
END:VTIMEZONE
BEGIN:VEVENT
DTSTART;TZID=America/New_York:20230917T100000
DTEND;TZID=America/New_York:20230917T140000
DTSTAMP:20260425T104612
CREATED:20230716T204202Z
LAST-MODIFIED:20230716T204447Z
UID:4357-1694944800-1694959200@corvetteclubofrhodeisland.com
SUMMARY:Vettes at the Beach
DESCRIPTION:Don’t miss this fun day at a beautiful location. \nBeach and ocean views with indoor bathrooms\, food and music\, and loads of beautiful Corvettes. \nFlyer here: Vettes at the beach
URL:https://corvetteclubofrhodeisland.com/event/vettes-at-the-beach-3/
LOCATION:Ocean Beach Park\, 98 Neptune Ave\, New London\, CT\, 06320\, United States
ATTACH;FMTTYPE=image/jpeg:https://corvetteclubofrhodeisland.com/wp-content/uploads/Ocean-Beach-Park.jpeg
END:VEVENT
BEGIN:VEVENT
DTSTART;TZID=America/New_York:20230910T110000
DTEND;TZID=America/New_York:20230910T170000
DTSTAMP:20260425T104612
CREATED:20230818T155530Z
LAST-MODIFIED:20230818T155541Z
UID:4386-1694343600-1694365200@corvetteclubofrhodeisland.com
SUMMARY:Cassidy Hill Vineyard Cruise
DESCRIPTION:Join us for a scenic cruise to Cassidy Hill Winery in Coventry Ct\nPack appetizers\, and bring chairs\,and a food truck will be on site\nEnding with an Ice Cream stop on our way back. \nSign up at the August or Sept Meetings or email Denny Langlois @ dlanglois@mac.com \nFlyer here: Cassidy Hill Cruise
URL:https://corvetteclubofrhodeisland.com/event/cassidy-hill-vineyard-cruise/
LOCATION:Cassidy Hill Vineyards\, 454 Cassidy Hill Rd\, Coventry\, CT\, 06238\, United States
END:VEVENT
BEGIN:VEVENT
DTSTART;TZID=America/New_York:20230906T170000
DTEND;TZID=America/New_York:20230906T193000
DTSTAMP:20260425T104612
CREATED:20230905T201524Z
LAST-MODIFIED:20230905T201524Z
UID:4404-1694019600-1694028600@corvetteclubofrhodeisland.com
SUMMARY:Sunset Cruise
DESCRIPTION:Possibly the last Sunset Cruise of the season takes place on Wed Sept 6th. \nJoin us for a beautiful sunset at Beavertail State Park in Jamestown. \nDetails here: Flyer
URL:https://corvetteclubofrhodeisland.com/event/sunset-cruise-9/
LOCATION:Beavertail State Park\, Beavertail Rd\,\, Jamestown\, RI\, 02835\, United States
ATTACH;FMTTYPE=image/jpeg:https://corvetteclubofrhodeisland.com/wp-content/uploads/Sunset-Cruise-.jpg
END:VEVENT
BEGIN:VEVENT
DTSTART;TZID=America/New_York:20230826T130000
DTEND;TZID=America/New_York:20230826T183000
DTSTAMP:20260425T104612
CREATED:20230627T170940Z
LAST-MODIFIED:20230627T170940Z
UID:4319-1693054800-1693074600@corvetteclubofrhodeisland.com
SUMMARY:Polo in Newport
DESCRIPTION:Polo in Newport is back this year and we have 80 seats reserved for Aug 26th. \nBe one of the first to reserve a ticket as this event always sells out. \nAlways a fun day for sure. \nDetails here: Polo Flyer
URL:https://corvetteclubofrhodeisland.com/event/polo-in-newport/
LOCATION:Newport Polo\, 250 Linden Lane\, Portsmouth\, RI\, 02871\, United States
ATTACH;FMTTYPE=image/jpeg:https://corvetteclubofrhodeisland.com/wp-content/uploads/Polo.jpg
END:VEVENT
BEGIN:VEVENT
DTSTART;TZID=America/New_York:20230823T170000
DTEND;TZID=America/New_York:20230823T200000
DTSTAMP:20260425T104612
CREATED:20230628T181810Z
LAST-MODIFIED:20230628T181810Z
UID:4342-1692810000-1692820800@corvetteclubofrhodeisland.com
SUMMARY:Sunset Cruise
DESCRIPTION:This week’s Sunset Cruise takes us to Goddard State Park \nBring your own snacks\, drinks\, chairs and enjoy beautiful seaside sunsets. \nFlyer here: Sunset Cruise
URL:https://corvetteclubofrhodeisland.com/event/sunset-cruise-8/
LOCATION:Goddard Park\, 1095 Ives Rd\, Warwick\, RI\, 02818\, United States
ATTACH;FMTTYPE=image/jpeg:https://corvetteclubofrhodeisland.com/wp-content/uploads/Sunset-Cruise-.jpg
END:VEVENT
BEGIN:VEVENT
DTSTART;TZID=America/New_York:20230813T110000
DTEND;TZID=America/New_York:20230813T150000
DTSTAMP:20260425T104612
CREATED:20230205T155447Z
LAST-MODIFIED:20230205T155447Z
UID:4233-1691924400-1691938800@corvetteclubofrhodeisland.com
SUMMARY:Corvettes by the Sea 2023
DESCRIPTION:CCRI is very excited to be planning our 51st Annual Corvette By The Sea Celebration again this year. Our hope is to bring together Corvette friends and enthusiasts from all over New England for a fun\, relaxing no-pressure gathering. No need to worry about dust on your car\, just mingle\, enjoy some chowder and clam cakes\, burgers\, hot dogs\, ice cream\, and possibly make new friends. After 3 years of Covid\, this is what we all need for sure.\nWe will be returning to the same venue we had last year\, and hoping to make some improvements in what was a very hectic last minute location change.\n Also new this year will be the presentation of a one thousand dollar check to the club with best participations charity of their choice.\nFlyer here: Corvettes by the Sea
URL:https://corvetteclubofrhodeisland.com/event/corvettes-by-the-sea-2023/
LOCATION:Ocean Tides School\, 635 Ocean RD\, Narragansett\, RI\, 02882\, United States
ATTACH;FMTTYPE=image/jpeg:https://corvetteclubofrhodeisland.com/wp-content/uploads/Ocean-Tides-School.jpeg
END:VEVENT
BEGIN:VEVENT
DTSTART;TZID=America/New_York:20230809T170000
DTEND;TZID=America/New_York:20230809T200000
DTSTAMP:20260425T104612
CREATED:20230628T175901Z
LAST-MODIFIED:20230808T204713Z
UID:4340-1691600400-1691611200@corvetteclubofrhodeisland.com
SUMMARY:Sunset Cruise
DESCRIPTION:This week’s Sunset Cruise takes us to the Beef Barn \nBring your own snacks\, drinks\, or buy your meal here. \nFlyer here: Sunset Cruise
URL:https://corvetteclubofrhodeisland.com/event/sunset-cruise-7/
LOCATION:Beef Barn\, 200 Industrial Dr\, North Smithfield\, RI\, 02896\, United States
ATTACH;FMTTYPE=image/jpeg:https://corvetteclubofrhodeisland.com/wp-content/uploads/Sunset-Cruise-.jpg
END:VEVENT
BEGIN:VEVENT
DTSTART;TZID=America/New_York:20230805T090000
DTEND;TZID=America/New_York:20230805T170000
DTSTAMP:20260425T104612
CREATED:20230527T192405Z
LAST-MODIFIED:20230527T192541Z
UID:4300-1691226000-1691254800@corvetteclubofrhodeisland.com
SUMMARY:World of Wheels Show
DESCRIPTION:A great car show at a beautiful venue\, with music\, food\, cash\, and trophy awards. \nSponsored by the Rhode Island Shriners \n  \nShow Flyer here: World of Wheels
URL:https://corvetteclubofrhodeisland.com/event/world-of-wheels-show/
LOCATION:Masonic Youth Center\, 116 Long Street\, Warwick\, RI\, 02886\, United States
ATTACH;FMTTYPE=image/jpeg:https://corvetteclubofrhodeisland.com/wp-content/uploads/Shriners.jpeg
END:VEVENT
BEGIN:VEVENT
DTSTART;TZID=America/New_York:20230726T170000
DTEND;TZID=America/New_York:20230726T200000
DTSTAMP:20260425T104612
CREATED:20230628T174720Z
LAST-MODIFIED:20230726T174029Z
UID:4334-1690390800-1690401600@corvetteclubofrhodeisland.com
SUMMARY:Sunset Cruise
DESCRIPTION:This week’s Sunset Cruise takes us to Georges of Galilee \nBring your own snacks\, drinks\, chairs and enjoy beautiful seaside sunsets. \nFlyer here: Sunset Cruise \nThis Event has been changed to Scarborough State Beach due to parking concerns at Galilee. \nThe meeting place has also been changed to the SHOWCASE CINEMA PARKING LOT on the corner of Rt 2 and Division St. in Warwick Ri near the East Greenwich line. \nOur usual meeting place on Hopkins Hill Rd is under construction at this time
URL:https://corvetteclubofrhodeisland.com/event/sunset-cruise-6/
LOCATION:Scarborough Beach\, 970 Ocean Road\, Narragansett\, RI\, 02882\, United States
ATTACH;FMTTYPE=image/jpeg:https://corvetteclubofrhodeisland.com/wp-content/uploads/Sunset-Cruise-.jpg
END:VEVENT
BEGIN:VEVENT
DTSTART;TZID=America/New_York:20230723T130000
DTEND;TZID=America/New_York:20230723T163000
DTSTAMP:20260425T104612
CREATED:20230326T203555Z
LAST-MODIFIED:20230527T185159Z
UID:4258-1690117200-1690129800@corvetteclubofrhodeisland.com
SUMMARY:CCRI Annual Cocktail Party
DESCRIPTION:Our Annual Cocktail Party is on again this year. Hooray!! \nReserve your spot for this amazing event with an incredible appetizer selection and much more! \nHosted By Liliana V. Dolan President \nComplete details here: Flyer Here
URL:https://corvetteclubofrhodeisland.com/event/ccri-annual-cocktail-party-3/
LOCATION:Crystal Lake\, 100 BRONCO HIGHWAY\, MAPLEVILLE\, RI\, 02839\, United States
ATTACH;FMTTYPE=image/jpeg:https://corvetteclubofrhodeisland.com/wp-content/uploads/Crystal-Lake.jpeg
END:VEVENT
BEGIN:VEVENT
DTSTART;TZID=America/New_York:20230705T170000
DTEND;TZID=America/New_York:20230705T200000
DTSTAMP:20260425T104612
CREATED:20230427T174642Z
LAST-MODIFIED:20230627T173711Z
UID:4283-1688576400-1688587200@corvetteclubofrhodeisland.com
SUMMARY:Sunset Cruise
DESCRIPTION:This week’s Sunset Cruise takes us to East Matunuck State Beach \nBring your own snacks\, drinks\, chairs and enjoy beautiful seaside sunsets. \n  \nFlyer here: Sunset Cruise
URL:https://corvetteclubofrhodeisland.com/event/sunset-cruise-4/
LOCATION:East Matunuck State Beach\, 950 Succotash Rd\, South Kingstown\, RI\, 02879\, United States
ATTACH;FMTTYPE=image/jpeg:https://corvetteclubofrhodeisland.com/wp-content/uploads/Sunset-Cruise-.jpg
END:VEVENT
BEGIN:VEVENT
DTSTART;TZID=America/New_York:20230624T100000
DTEND;TZID=America/New_York:20230624T170000
DTSTAMP:20260425T104612
CREATED:20230427T160416Z
LAST-MODIFIED:20230427T160416Z
UID:4275-1687600800-1687626000@corvetteclubofrhodeisland.com
SUMMARY:BBQ at Thompson Speedway
DESCRIPTION:Don’t miss this fun day at Thompson Speedway. \nIn this event\, you will follow a pace car around the track for 3-5 laps around the 1.7-mile road course (depending on how many cars we have attending). We will then have a BBQ luncheon under the tent. This event is limited to 30 cars so sign up early. \nEvent flyer here; BBQ at the track
URL:https://corvetteclubofrhodeisland.com/event/bbq-at-thompson-speedway/
LOCATION:Thompson Speedway\, 205E Thompson Rd\, CT\, 06277\, United States
ATTACH;FMTTYPE=image/png:https://corvetteclubofrhodeisland.com/wp-content/uploads/Thompson-Speedway-logo.png
END:VEVENT
BEGIN:VEVENT
DTSTART;TZID=America/New_York:20230614T173000
DTEND;TZID=America/New_York:20230614T200000
DTSTAMP:20260425T104612
CREATED:20230427T152939Z
LAST-MODIFIED:20230427T152939Z
UID:4269-1686763800-1686772800@corvetteclubofrhodeisland.com
SUMMARY:Sunset Cruise
DESCRIPTION:This year’s Sunset Cruises will be hosted by Activity Committee members \nStarting June 14th and continuing every other Wed through the summer weather permitting. \nOur 1st Sunset Cruise takes us to Beavertail State Park in Jamestwon. \nDetails here: Sunset Cruise
URL:https://corvetteclubofrhodeisland.com/event/sunset-cruise-3/
LOCATION:Beavertail State Park\, Beavertail Rd\,\, Jamestown\, RI\, 02835\, United States
ATTACH;FMTTYPE=image/jpeg:https://corvetteclubofrhodeisland.com/wp-content/uploads/Sunset-Cruise-.jpg
END:VEVENT
BEGIN:VEVENT
DTSTART;TZID=America/New_York:20230604T080000
DTEND;TZID=America/New_York:20230604T153000
DTSTAMP:20260425T104612
CREATED:20230216T214629Z
LAST-MODIFIED:20230216T215428Z
UID:4240-1685865600-1685892600@corvetteclubofrhodeisland.com
SUMMARY:Corvette show and swap meet
DESCRIPTION:Each summer\, Club Corvette of Connecticut conducts one of the largest Corvette-only judged shows in the Northeast. For several years\, the event has featured more than 250 examples of Corvettes in varying vintages and styles\, representing all facets of the model’s 65-year history. Cars on display range from original C1s from the 1950s\, to all sorts of modified ‘Vettes\, to the newest mid-engine C8s. \nThe public is invited to come and experience in person the quintessential American sports car and its rich history. Vendors will be on-site offering Corvette and automotive memorabilia for sale; a variety of foods\, beverages and other refreshments should also be available for purchase. \nNet proceeds from the show are donated to the club’s adopted charity\, The Ronald McDonald House\, and other Connecticut charities. \nFlyer here: Corvette show and swap meet
URL:https://corvetteclubofrhodeisland.com/event/corvette-show-and-swap-meet-2/
LOCATION:Moroso Performance Products\, 80 Carter Dr\, Guilford\, CT\, 06437\, United States
ATTACH;FMTTYPE=image/jpeg:https://corvetteclubofrhodeisland.com/wp-content/uploads/Unknown.jpeg
END:VEVENT
BEGIN:VEVENT
DTSTART;TZID=America/New_York:20230528T080000
DTEND;TZID=America/New_York:20230528T153000
DTSTAMP:20260425T104612
CREATED:20230216T145954Z
LAST-MODIFIED:20230527T185321Z
UID:4236-1685260800-1685287800@corvetteclubofrhodeisland.com
SUMMARY:Spring Fling 2023
DESCRIPTION:The return of the 41st annual all Corvette judged show in New England. \nAlways a great event held at the Anheuser-Busch grounds in Merrimack\, Nh \nDetails for CCRI members caravaning to this event will be posted soon. \nFlyer here: Spring Fling
URL:https://corvetteclubofrhodeisland.com/event/spring-fling-2023/
LOCATION:Gate City Spring fling\, 221 Daniel Webster Highway\, Merimack\, NH\, 03054\, United States
ATTACH;FMTTYPE=image/png:https://corvetteclubofrhodeisland.com/wp-content/uploads/Screen-Shot-2023-02-16-at-9.52.13-AM.png
END:VEVENT
BEGIN:VEVENT
DTSTART;TZID=America/New_York:20230502T173000
DTEND;TZID=America/New_York:20230502T200000
DTSTAMP:20260425T104612
CREATED:20230326T200029Z
LAST-MODIFIED:20230326T200029Z
UID:4253-1683048600-1683057600@corvetteclubofrhodeisland.com
SUMMARY:Pizza Cruise Night at our monthly meeting
DESCRIPTION:COME JOIN US AT OUR MONTHLY MEETING IN MAY FOR OUR \nBLESSING OF THE CCRI MEMBER’S CORVETTES WITH PIZZA\, ICE CREAM\, AND CRUISE NIGHT IN OUR PARKING LOT \nTUESDAY\, MAY 2\, 2023\, AT OUR MEETING PLACE \nSHEPHERD OF THE VALLEY CHURCH \n604 SEVEN MILE ROAD\, HOPE RI \nBLESSING OF THE CORVETTES AT 6:00 P.M. \nPIZZA AND ICE CREAM SERVED FROM 5:30 P.M. TO 6:45 P.M. \nMONTHLY MEETING WILL START AT 7:00 P.M. SHARP! \nFlyer here: Pizza Cruise night
URL:https://corvetteclubofrhodeisland.com/event/pizza-cruise-night-at-our-monthly-meeting/
LOCATION:Shepherd of the Valley Church\, 604 Seven Mile Rd\, Hope\, RI\, 02831\, United States
ATTACH;FMTTYPE=image/jpeg:https://corvetteclubofrhodeisland.com/wp-content/uploads/Club-Meeting-scaled.jpg
END:VEVENT
BEGIN:VEVENT
DTSTART;TZID=America/New_York:20230410T183000
DTEND;TZID=America/New_York:20230410T200000
DTSTAMP:20260425T104612
CREATED:20230326T193615Z
LAST-MODIFIED:20230326T194211Z
UID:4249-1681151400-1681156800@corvetteclubofrhodeisland.com
SUMMARY:Monthly Business Meeting
DESCRIPTION:ATTENTION! ATTENTION! ATTENTION!\nCHANGE OF DATE FOR MEETING FOR APRIL\nDUE TO THE FACT THAT THE PRESIDENT AND VICE PRESIDENT ARE RESPECTIVELY TRAVELLING OUR APRIL MEETING IS RESCHEDULED TO \nMONDAY\, APRIL 10\, 2023 \nAT 6:30 P.M. SHARP! \nWE HOPE THAT YOU WILL BE ABLE TO ATTEND THIS MONTHLY MEETING AS WE HAVE SIGN-UPS\, FOR ACTIVITIES THAT ARE HAPPENING IN \nAPRIL 2023. \nWE THANK YOU FOR YOUR SUPPORT AND HOPE TO SEE YOU ON \nMONDAY\, APRIL 10\, 2023\, AT 6:30 P.M. SHARP!
URL:https://corvetteclubofrhodeisland.com/event/monthly-business-meeting-4/
LOCATION:Shepherd of the Valley Church\, 604 Seven Mile Rd\, Hope\, RI\, 02831\, United States
ATTACH;FMTTYPE=image/jpeg:https://corvetteclubofrhodeisland.com/wp-content/uploads/Club-Meeting-scaled.jpg
END:VEVENT
BEGIN:VEVENT
DTSTART;TZID=America/New_York:20230317T140000
DTEND;TZID=America/New_York:20230319T110000
DTSTAMP:20260425T104612
CREATED:20230205T151051Z
LAST-MODIFIED:20230205T151232Z
UID:4223-1679061600-1679223600@corvetteclubofrhodeisland.com
SUMMARY:Fireside feast at the Salem Cross Inn
DESCRIPTION:Salem Cross Inn Fireside Feast is open to the first 55 people – the Feast includes a Prime Rib Dinner; or \nVegetarian meal or Salmon full course dinner from appetizers\, to mulled wine\, to a full family style \nprime rib dinner. Horse Drawn Carriage rides weather permitting. The cost is $90.00 per person \nnonrefundable if you book this event. Members must pay and notify Liliana V. Dolan by no later than \nFebruary meeting. Checks are payable to Corvette Club of Rhode Island and can be mailed to Corvette \nClub of Rhode Island\, 90 COLWELL ROAD\, BURRILLVILLE\, RI 02830 \nFlyer here: Event weekend
URL:https://corvetteclubofrhodeisland.com/event/fireside-feast-at-the-salem-cross-inn/
LOCATION:Salem Cross Inn\, 260 West Main Street\, West Brookfield\, MA\, 01585\, United States
ATTACH;FMTTYPE=image/jpeg:https://corvetteclubofrhodeisland.com/wp-content/uploads/welcome-to-salem-cross.jpg
END:VEVENT
BEGIN:VEVENT
DTSTART;TZID=America/New_York:20230219T160000
DTEND;TZID=America/New_York:20230219T200000
DTSTAMP:20260425T104612
CREATED:20230103T190045Z
LAST-MODIFIED:20230103T190045Z
UID:4207-1676822400-1676836800@corvetteclubofrhodeisland.com
SUMMARY:Winter Dinner Social
DESCRIPTION:Club members Randy and Judy Flock would like to cordially invite everyone to our first social of the New Year at Finn’s Harborside in East Greenwich. It will take place on the upper level with great views of the Bay\, on Sunday\, Feb 19.\nIf you would like to attend please fill out the attached form and submit it with your payment at January’s business meeting or mail it to Randy per the instructions on the form. \nEvent Flyer:
URL:https://corvetteclubofrhodeisland.com/event/winter-dinner-social/
LOCATION:Finn’s Harborside\, 38 Water Street\, East Greenwich\, RI\, 02818\, United States
ATTACH;FMTTYPE=image/jpeg:https://corvetteclubofrhodeisland.com/wp-content/uploads/Finns.jpeg
END:VEVENT
BEGIN:VEVENT
DTSTART;TZID=America/New_York:20230207T183000
DTEND;TZID=America/New_York:20230207T200000
DTSTAMP:20260425T104612
CREATED:20230204T170922Z
LAST-MODIFIED:20230204T171125Z
UID:4219-1675794600-1675800000@corvetteclubofrhodeisland.com
SUMMARY:Monthly Business Meeting
DESCRIPTION:Our monthly business meeting for February \nMeeting begins at 6:30
URL:https://corvetteclubofrhodeisland.com/event/monthly-business-meeting-3/
LOCATION:Shepherd of the Valley Church\, 604 Seven Mile Rd\, Hope\, RI\, 02831\, United States
ATTACH;FMTTYPE=image/jpeg:https://corvetteclubofrhodeisland.com/wp-content/uploads/Club-Meeting-scaled.jpg
END:VEVENT
BEGIN:VEVENT
DTSTART;TZID=America/New_York:20221217T180000
DTEND;TZID=America/New_York:20221217T220000
DTSTAMP:20260425T104612
CREATED:20221101T183134Z
LAST-MODIFIED:20221101T183134Z
UID:4185-1671300000-1671314400@corvetteclubofrhodeisland.com
SUMMARY:CCRI Christmas Party 2022
DESCRIPTION:We are very excited about this year’s Christmas Party which will be held at a new venue for this event. The beautiful newly renovated Kirkbrae Country Club in Lincoln RI. \nA Filet Mignon Dinner preceded by Appetizers\, followed by Music by DJ Sergio. \nSee all the details on the attached flyer for complete information. \nSign up soon. \nFlyer here: Christmas Party \n 
URL:https://corvetteclubofrhodeisland.com/event/ccri-christmas-party-2022/
LOCATION:Kirkbrae Country Club\, 197 Old River Rd\, Lincoln\, RI\, 02865\, United States
ATTACH;FMTTYPE=image/jpeg:https://corvetteclubofrhodeisland.com/wp-content/uploads/Kirkbrae.jpeg
END:VEVENT
BEGIN:VEVENT
DTSTART;TZID=America/New_York:20221106T130000
DTEND;TZID=America/New_York:20221106T153000
DTSTAMP:20260425T104612
CREATED:20220905T172615Z
LAST-MODIFIED:20220905T173257Z
UID:4162-1667739600-1667748600@corvetteclubofrhodeisland.com
SUMMARY:Comedy Lunch Social
DESCRIPTION:  \nPlease join us for an afternoon of great Italian food and laughter by one of Rhode Islands’ best Comedians: \nJohn Perotta \nDon’t miss this fun event \nAll details on flyer: Flyer here.
URL:https://corvetteclubofrhodeisland.com/event/comedy-lunch-social/
LOCATION:Bellas Restaurant\, 1992 Victory Highway\, Glendale\, RI\, 02826\, United States
ATTACH;FMTTYPE=image/jpeg:https://corvetteclubofrhodeisland.com/wp-content/uploads/Bellas-restaurant.jpeg
END:VEVENT
BEGIN:VEVENT
DTSTART;TZID=America/New_York:20221016T103000
DTEND;TZID=America/New_York:20221016T163000
DTSTAMP:20260425T104612
CREATED:20220817T201013Z
LAST-MODIFIED:20220817T201013Z
UID:4147-1665916200-1665937800@corvetteclubofrhodeisland.com
SUMMARY:Drive and Dine
DESCRIPTION:Enjoy some fall color on a ride through RI and CT woodlands then a meal at: \nThe Golden Greek Restaurant:  474 Putnam Pike Dayville\, CT \nLimited space event so sign up early \nCaravan and contact info on flyer: Drive and Dine flyer
URL:https://corvetteclubofrhodeisland.com/event/drive-and-dine/
LOCATION:Golden Greek Restaurant\, 474 Putnam Pike\, Dayville\, CT\, 06241\, United States
ATTACH;FMTTYPE=image/jpeg:https://corvetteclubofrhodeisland.com/wp-content/uploads/Golden-Greek.jpeg
END:VEVENT
BEGIN:VEVENT
DTSTART;TZID=America/New_York:20221002T090000
DTEND;TZID=America/New_York:20221002T150000
DTSTAMP:20260425T104612
CREATED:20220718T184043Z
LAST-MODIFIED:20220718T184043Z
UID:4129-1664701200-1664722800@corvetteclubofrhodeisland.com
SUMMARY:Corvette Show and Swap Meet
DESCRIPTION:Club Corvette of Ct’s annual Corvette Show \nA new venue and format for this clubs always great show \nFlyer here: Corvette Show & Swap meet \n  \n 
URL:https://corvetteclubofrhodeisland.com/event/corvette-show-and-swap-meet/
LOCATION:Guilford Fairgrounds\, 111 Lovers Lane\, Guilford\, CT\, 06437\, United States
ATTACH;FMTTYPE=image/jpeg:https://corvetteclubofrhodeisland.com/wp-content/uploads/Club-Corvette-show-2022.jpg
END:VEVENT
BEGIN:VEVENT
DTSTART;VALUE=DATE:20220923
DTEND;VALUE=DATE:20220926
DTSTAMP:20260425T104612
CREATED:20220407T152808Z
LAST-MODIFIED:20220407T152808Z
UID:4033-1663891200-1664150399@corvetteclubofrhodeisland.com
SUMMARY:Get Away Weekend
DESCRIPTION:This year’s fall Get Away Weekend takes us to the beautiful Berkshires and Mohawk Trail areas. \nRooms are limited to the first 20 couples who sign up. \nSign-up information is located on the flyer here: Getaway weekend.
URL:https://corvetteclubofrhodeisland.com/event/get-away-weekend-2/
LOCATION:RI
ATTACH;FMTTYPE=image/jpeg:https://corvetteclubofrhodeisland.com/wp-content/uploads/Berkshires.jpeg
END:VEVENT
BEGIN:VEVENT
DTSTART;TZID=America/New_York:20220918T100000
DTEND;TZID=America/New_York:20220918T140000
DTSTAMP:20260425T104612
CREATED:20220718T182750Z
LAST-MODIFIED:20220718T182750Z
UID:4122-1663495200-1663509600@corvetteclubofrhodeisland.com
SUMMARY:Vettes at the Beach
DESCRIPTION:Club “For Corvettes Only” annual Corvette Show \nAlways a great time at a beautiful Venue \nNot to be missed for sure \nFlyer here: Vettes at the Beach
URL:https://corvetteclubofrhodeisland.com/event/vettes-at-the-beach-2/
LOCATION:Vettes at the Beach\, 98 Neptune Ave\, New London\, CT\, 06320\, United States
ATTACH;FMTTYPE=image/jpeg:https://corvetteclubofrhodeisland.com/wp-content/uploads/Ocean-Beach-Park.jpeg
END:VEVENT
BEGIN:VEVENT
DTSTART;TZID=America/New_York:20220911T120000
DTEND;TZID=America/New_York:20220911T160000
DTSTAMP:20260425T104612
CREATED:20220828T135908Z
LAST-MODIFIED:20220828T140117Z
UID:4153-1662897600-1662912000@corvetteclubofrhodeisland.com
SUMMARY:Newport car Museum
DESCRIPTION:Join us for a visit to the beautiful Newport car Museum followed by a luncheon at the Coddington Brewery. \nSpace is limited so sign up early. \nAll info on the flyer: Flyer here
URL:https://corvetteclubofrhodeisland.com/event/newport-car-museum/
LOCATION:Nerwport car Museum\, 1947 West Main Rd\, Portsmouth\, RI\, 02871\, United States
ATTACH;FMTTYPE=image/jpeg:https://corvetteclubofrhodeisland.com/wp-content/uploads/images.jpeg
END:VEVENT
BEGIN:VEVENT
DTSTART;TZID=America/New_York:20220828T130000
DTEND;TZID=America/New_York:20220828T170000
DTSTAMP:20260425T104612
CREATED:20220712T143012Z
LAST-MODIFIED:20220712T143030Z
UID:4110-1661691600-1661706000@corvetteclubofrhodeisland.com
SUMMARY:Stoneforge Tavern ride and luncheon
DESCRIPTION:A limited space event so sign up early \nLuncheon following a ride from Cardi’s furniture \nLimited menu with separate checks \nFlyer Here: Stoneforge Tavern
URL:https://corvetteclubofrhodeisland.com/event/stoneforge-tavern-ride-and-luncheon/
LOCATION:Stoneforge Tavern\, 90 Paramount Dr\, Raynham\, MA\, 02767\, United States
ATTACH;FMTTYPE=image/jpeg:https://corvetteclubofrhodeisland.com/wp-content/uploads/stoneforge.jpeg
END:VEVENT
BEGIN:VEVENT
DTSTART;TZID=America/New_York:20220814T110000
DTEND;TZID=America/New_York:20220814T150000
DTSTAMP:20260425T104612
CREATED:20220407T191027Z
LAST-MODIFIED:20220702T135356Z
UID:4039-1660474800-1660489200@corvetteclubofrhodeisland.com
SUMMARY:Corvettes by the Sea 2022
DESCRIPTION:Updated information on our new Venue\nCCRI is very excited to be planning our 50th Annual Corvettes By The Sea Celebration again this year. Our hope is to bring together Corvette friends and enthusiasts from all over New England for a fun\, relaxing no-pressure gathering. No need to worry about dust on your car\, just mingle\, enjoy some chowder and clam cakes\, burgers\, hot dogs\, ice cream\, and possibly make new friends. After 2 years of Covid\, this is what we all need for sure.\n  \nShow Flyer here: Corvettes by the Sea \nDirections to show here; Directions to Corvettes by the Sea
URL:https://corvetteclubofrhodeisland.com/event/corvettes-by-the-sea-2022/
LOCATION:Ocean Tides School\, 635 Ocean RD\, Narragansett\, RI\, 02882\, United States
ATTACH;FMTTYPE=image/jpeg:https://corvetteclubofrhodeisland.com/wp-content/uploads/Ocean-Tides-School.jpeg
END:VEVENT
BEGIN:VEVENT
DTSTART;TZID=America/New_York:20220807T100000
DTEND;TZID=America/New_York:20220807T160000
DTSTAMP:20260425T104612
CREATED:20210710T221657Z
LAST-MODIFIED:20220803T185447Z
UID:3839-1659866400-1659888000@corvetteclubofrhodeisland.com
SUMMARY:Charlestown Seafood Festival and Car Show
DESCRIPTION:  \n\n\n \nI wanted to give you the latest update information on the Charlestown Seafood Festival and Car Show slated for August 7\, 2022. The admission fee is $15 for the driver & passenger. The fee includes access to the festival with no extra fees. The show admittance has always included the festival. There is grass parking (unlimited space) and paved parking for about 100 vehicles. The show starts at 11 AM. Once you are parked you may stay to the end of the festival\, which is nice if the fireworks have been postponed.\n\nFestival website: https://www.charlestownseafoodfestival.com
URL:https://corvetteclubofrhodeisland.com/event/charlestown-seafood-festival-and-car-show/
LOCATION:Ninigret Park\, 5 Park Lane\, Charlestown\, RI\, 02813\, United States
ATTACH;FMTTYPE=image/jpeg:https://corvetteclubofrhodeisland.com/wp-content/uploads/Charlestown-seafood-festival.jpeg
END:VEVENT
END:VCALENDAR