BEGIN:VCALENDAR
VERSION:2.0
PRODID:-//Corvette Club of Rhode Island - ECPv6.15.20//NONSGML v1.0//EN
CALSCALE:GREGORIAN
METHOD:PUBLISH
X-WR-CALNAME:Corvette Club of Rhode Island
X-ORIGINAL-URL:https://corvetteclubofrhodeisland.com
X-WR-CALDESC:Events for Corvette Club of Rhode Island
REFRESH-INTERVAL;VALUE=DURATION:PT1H
X-Robots-Tag:noindex
X-PUBLISHED-TTL:PT1H
BEGIN:VTIMEZONE
TZID:America/New_York
BEGIN:DAYLIGHT
TZOFFSETFROM:-0500
TZOFFSETTO:-0400
TZNAME:EDT
DTSTART:20200308T070000
END:DAYLIGHT
BEGIN:STANDARD
TZOFFSETFROM:-0400
TZOFFSETTO:-0500
TZNAME:EST
DTSTART:20201101T060000
END:STANDARD
BEGIN:DAYLIGHT
TZOFFSETFROM:-0500
TZOFFSETTO:-0400
TZNAME:EDT
DTSTART:20210314T070000
END:DAYLIGHT
BEGIN:STANDARD
TZOFFSETFROM:-0400
TZOFFSETTO:-0500
TZNAME:EST
DTSTART:20211107T060000
END:STANDARD
BEGIN:DAYLIGHT
TZOFFSETFROM:-0500
TZOFFSETTO:-0400
TZNAME:EDT
DTSTART:20220313T070000
END:DAYLIGHT
BEGIN:STANDARD
TZOFFSETFROM:-0400
TZOFFSETTO:-0500
TZNAME:EST
DTSTART:20221106T060000
END:STANDARD
END:VTIMEZONE
BEGIN:VEVENT
DTSTART;TZID=America/New_York:20210719T180000
DTEND;TZID=America/New_York:20210719T210000
DTSTAMP:20260425T062316
CREATED:20210706T204627Z
LAST-MODIFIED:20210706T204627Z
UID:3831-1626717600-1626728400@corvetteclubofrhodeisland.com
SUMMARY:Corvette Cruise night at Copperfield's
DESCRIPTION:CORVETTE CLUB OF RHODE ISLAND CHARITY CRUISE NIGHT \nLOCATED AT THE NEWLY OPENED COPPERFIELD’S BURGER AND BEER HOUSE @ 678 KILLINGLY STREET JOHNSTON\, RHODE ISLAND ON MONDAY\, JULY 19\, 2021 \nMEET IN THE PARKING LOT THAT WILL BE BLOCKED OFF FOR PARKING \nFOOD AND DRINKS AVAILABLE INSIDE THE PUB \nTHE OWNER WILL BE DONATING TO OUR CHARITIES\, OPERATION STAND DOWN AND RHODE ISLAND COMMUNITY FOOD BANK. \nIF YOU ARE INTERESTED IN ATTENDING SIMPLY TEXT LILIANA V. DOLAN\, PRESIDENT AT 401-369-2881 \nOUR HOST KARIM MENEBHI IS THE OWNER \nTHIS SHOULD BE A FUN NIGHT – WEATHER PERMITTING. \nFlyer here: Copperfields
URL:https://corvetteclubofrhodeisland.com/event/corvette-cruise-night-at-copperfields/
LOCATION:Copperfields\, 678 Killingly St\, Johnston\,RI\, RI\, 022919\, United States
ATTACH;FMTTYPE=image/png:https://corvetteclubofrhodeisland.com/wp-content/uploads/Picture1.png
END:VEVENT
BEGIN:VEVENT
DTSTART;TZID=America/New_York:20210717T073000
DTEND;TZID=America/New_York:20210717T170000
DTSTAMP:20260425T062316
CREATED:20210505T192650Z
LAST-MODIFIED:20210505T205944Z
UID:3749-1626507000-1626541200@corvetteclubofrhodeisland.com
SUMMARY:Imsa Grand Prix Racing
DESCRIPTION:The IMSA WeatherTech SportsCar Championship is one of the premier sports car racing series in the United States and Canada organized by the International Motor Sports Association or IMSA for short. The series competes at some of North America’s most recognized sports car venues\, including Lime Rock Park for the Northeast Grand Prix held on July 16-17\, 2021. The WeatherTech SportsCar Championship features multiple classes of awe-inspiring sports cars racing on the track at the same time\, making for seemingly endless passing throughout the race. The majority of the races are timed races of 2 hours and 40 minutes. \nClub Member Randy Flock will be leading the group to the Track On Saturday\, July 17th. \nDetails and sign up can be found here: Flyer
URL:https://corvetteclubofrhodeisland.com/event/imsa-grand-prix-racing/
LOCATION:Imsa Racing\, Lime rock Park\, 60 White Hollow Road\, Lakeville\, CT\, 06039\, United States
ATTACH;FMTTYPE=image/jpeg:https://corvetteclubofrhodeisland.com/wp-content/uploads/Corvette-Racing.jpeg
END:VEVENT
BEGIN:VEVENT
DTSTART;TZID=America/New_York:20210711T080000
DTEND;TZID=America/New_York:20210711T100000
DTSTAMP:20260425T062316
CREATED:20210417T190752Z
LAST-MODIFIED:20210709T221303Z
UID:3723-1625990400-1625997600@corvetteclubofrhodeisland.com
SUMMARY:Audrain Cars and Coffee
DESCRIPTION:This great summer event will return to Newport this year with multiple dates. \nTo attend you have to pre-register. Club Member Doug Lombardi will lead the group each time and may be contacted @(401) 489-8100 \nMeeting at the Showcase Cinema on the Corner of Quaker Lane and Division St at 7:30 AM. \nEvent flyer: click here
URL:https://corvetteclubofrhodeisland.com/event/audrain-cars-and-coffee/
LOCATION:Salve Regina University\, 100 Ochre Point Ave\, Newport\, RI\, 02840\, United States
ATTACH;FMTTYPE=image/png:https://corvetteclubofrhodeisland.com/wp-content/uploads/Unknown.png
END:VEVENT
BEGIN:VEVENT
DTSTART;TZID=America/New_York:20210705T080000
DTEND;TZID=America/New_York:20210705T140000
DTSTAMP:20260425T062316
CREATED:20210504T183906Z
LAST-MODIFIED:20210504T183906Z
UID:3739-1625472000-1625493600@corvetteclubofrhodeisland.com
SUMMARY:Bristol 4th of July Parade
DESCRIPTION:CCRI members\, \nTake part in America’s oldest 4th of July parade this year\, in Bristol RI. with your Corvette. \nInformation required to participate: \nFull name of Owner: \nAddress and email: \nYear of Corvette: \nPhone #: \nDate of Parade:  Monday\, July 5th \nMeeting place and time: Cardi’s furniture Swansea Mass off Rt195 at 7:15 AM \nYou must have insurance. \nSign up deadline is June 1st \nAnyone interested must contact Ernie Nastari: enastari@msn.com  or (401) 533-1208 \n  \n  \n 
URL:https://corvetteclubofrhodeisland.com/event/bristol-4th-of-july-parade/
LOCATION:Bristol Parade\, 199 Chesnut Street\, Bristol\, RI\, 022809\, United States
ATTACH;FMTTYPE=image/jpeg:https://corvetteclubofrhodeisland.com/wp-content/uploads/Bristol-parade.jpg
END:VEVENT
BEGIN:VEVENT
DTSTART;TZID=America/New_York:20210627T120000
DTEND;TZID=America/New_York:20210627T170000
DTSTAMP:20260425T062316
CREATED:20210623T154457Z
LAST-MODIFIED:20210623T155213Z
UID:3815-1624795200-1624813200@corvetteclubofrhodeisland.com
SUMMARY:Festivals on a mission
DESCRIPTION:Great Event on a Sunday afternoon staring at the Ocean!!! Lots of Jeeps\, Beer\, Food Trucks\, Vendors\, Music\, Family Fun\, Games and room to Spread out and chill!! All to Benefit Mission 22 Veterans organization. \nClub Member Doug Lombardi will lead a group if you are interested and may be contacted @(401) 489-8100 \nFlyer here: 401 Jeep Wave
URL:https://corvetteclubofrhodeisland.com/event/festivals-on-a-mission/
LOCATION:Masonic Youth Center\, 116 Long Street\, Warwick\, RI\, 02886\, United States
ATTACH;FMTTYPE=image/jpeg:https://corvetteclubofrhodeisland.com/wp-content/uploads/401-Jeep-wave.jpg
END:VEVENT
BEGIN:VEVENT
DTSTART;VALUE=DATE:20210610
DTEND;VALUE=DATE:20210614
DTSTAMP:20260425T062316
CREATED:20210416T171110Z
LAST-MODIFIED:20210416T171159Z
UID:3694-1623283200-1623628799@corvetteclubofrhodeisland.com
SUMMARY:Back to the Beach Weekend
DESCRIPTION:Welcome to the 17th Annual \nBack to the Beach \nCorvette Weekend \nlocated in beautiful Old Orchard Beach\, Maine \nJune 10th thru the 13th\, 2021 \nPre-registration is required so book early \n 
URL:https://corvetteclubofrhodeisland.com/event/back-to-the-beach-weekend/
LOCATION:Back to the Beach\, Old Orchard Beach\, ME\, 04064\, United States
ATTACH;FMTTYPE=image/gif:https://corvetteclubofrhodeisland.com/wp-content/uploads/back-to-the-beach-logo.gif
END:VEVENT
END:VCALENDAR