BEGIN:VCALENDAR
VERSION:2.0
PRODID:-//Corvette Club of Rhode Island - ECPv6.15.20//NONSGML v1.0//EN
CALSCALE:GREGORIAN
METHOD:PUBLISH
X-WR-CALNAME:Corvette Club of Rhode Island
X-ORIGINAL-URL:https://corvetteclubofrhodeisland.com
X-WR-CALDESC:Events for Corvette Club of Rhode Island
REFRESH-INTERVAL;VALUE=DURATION:PT1H
X-Robots-Tag:noindex
X-PUBLISHED-TTL:PT1H
BEGIN:VTIMEZONE
TZID:America/New_York
BEGIN:DAYLIGHT
TZOFFSETFROM:-0500
TZOFFSETTO:-0400
TZNAME:EDT
DTSTART:20200308T070000
END:DAYLIGHT
BEGIN:STANDARD
TZOFFSETFROM:-0400
TZOFFSETTO:-0500
TZNAME:EST
DTSTART:20201101T060000
END:STANDARD
BEGIN:DAYLIGHT
TZOFFSETFROM:-0500
TZOFFSETTO:-0400
TZNAME:EDT
DTSTART:20210314T070000
END:DAYLIGHT
BEGIN:STANDARD
TZOFFSETFROM:-0400
TZOFFSETTO:-0500
TZNAME:EST
DTSTART:20211107T060000
END:STANDARD
BEGIN:DAYLIGHT
TZOFFSETFROM:-0500
TZOFFSETTO:-0400
TZNAME:EDT
DTSTART:20220313T070000
END:DAYLIGHT
BEGIN:STANDARD
TZOFFSETFROM:-0400
TZOFFSETTO:-0500
TZNAME:EST
DTSTART:20221106T060000
END:STANDARD
END:VTIMEZONE
BEGIN:VEVENT
DTSTART;TZID=America/New_York:20211114T130000
DTEND;TZID=America/New_York:20211114T160000
DTSTAMP:20260425T121727
CREATED:20210416T175213Z
LAST-MODIFIED:20210820T152159Z
UID:3700-1636894800-1636905600@corvetteclubofrhodeisland.com
SUMMARY:CCRI Annual Cocktail Party
DESCRIPTION:Our Annual Cocktail Party is on again this year. Hooray!! \nReserve your spot for this amazing event with an incredible appetizer selection and much more! \nNov 14 from 1-4 pm.  Rescheduled from August Hurricane \nHosted By Liliana V. Dolan President \nComplete details here: Flyer
URL:https://corvetteclubofrhodeisland.com/event/ccri-annual-cocktail-party/
LOCATION:Crystal Lake\, 100 BRONCO HIGHWAY\, MAPLEVILLE\, RI\, 02839\, United States
ATTACH;FMTTYPE=image/jpeg:https://corvetteclubofrhodeisland.com/wp-content/uploads/Crystal-Lake.jpeg
END:VEVENT
BEGIN:VEVENT
DTSTART;TZID=America/New_York:20211031T100000
DTEND;TZID=America/New_York:20211031T130000
DTSTAMP:20260425T121727
CREATED:20211029T231226Z
LAST-MODIFIED:20211029T231226Z
UID:3909-1635674400-1635685200@corvetteclubofrhodeisland.com
SUMMARY:Cars and Coffee
DESCRIPTION:Club member Doug Lombardi will once again be leading a group to this Sundays last Cars and Coffee of the season\, called Trunk or Treat at Fort Adams State Park in Newport. Doug will be meeting at the Showcase Cinema on the corner of Division Rd and Quaker lane (Rt2) at 9 – 9:15 leaving at 9:30. Dougs cell: 401 489-8100. You are also asked to bring along some candy for the kids. Don’t miss this fun event.
URL:https://corvetteclubofrhodeisland.com/event/cars-and-coffee/
LOCATION:Fort Adams State Park\, 80 Fort Adams Dr\, Newport\, RI\, 02840\, United States
ATTACH;FMTTYPE=image/png:https://corvetteclubofrhodeisland.com/wp-content/uploads/Unknown.png
END:VEVENT
BEGIN:VEVENT
DTSTART;VALUE=DATE:20210924
DTEND;VALUE=DATE:20210927
DTSTAMP:20260425T121727
CREATED:20210416T182315Z
LAST-MODIFIED:20210615T152806Z
UID:3708-1632441600-1632700799@corvetteclubofrhodeisland.com
SUMMARY:Get Away Weekend
DESCRIPTION:This years “Get Away Weekend” takes us to The White Mountain area of NH. \n20 rooms are blocked at the Hampton Inn in Littleton Nh and it is first come first serve so book early. Please see the flyer for details. Click here: \nThank you\, this event is completely booked for this year.
URL:https://corvetteclubofrhodeisland.com/event/get-away-weekend/
LOCATION:Hampton Inn\, 580 Meadow St\, Littleton\, NH\, 03561\, United States
ATTACH;FMTTYPE=image/jpeg:https://corvetteclubofrhodeisland.com/wp-content/uploads/NewHampshire-KancamagusHighway-Ujjwalstha-1300x375-1.jpg
END:VEVENT
BEGIN:VEVENT
DTSTART;TZID=America/New_York:20210919T100000
DTEND;TZID=America/New_York:20210919T150000
DTSTAMP:20260425T121727
CREATED:20210416T191320Z
LAST-MODIFIED:20210416T222746Z
UID:3711-1632045600-1632063600@corvetteclubofrhodeisland.com
SUMMARY:Vettes at the Beach
DESCRIPTION:A new Venue for this Annual Corvette show this year looks to be great \nClick flyer \n  \n 
URL:https://corvetteclubofrhodeisland.com/event/vettes-at-the-beach/
LOCATION:Ocean Beach Park\, 98 Neptune Ave\, New London\, CT\, 06320\, United States
ATTACH;FMTTYPE=image/tiff:https://corvetteclubofrhodeisland.com/wp-content/uploads/Unknown.tiff
END:VEVENT
BEGIN:VEVENT
DTSTART;TZID=America/New_York:20210911T140000
DTEND;TZID=America/New_York:20210911T170000
DTSTAMP:20260425T121727
CREATED:20210416T230118Z
LAST-MODIFIED:20210416T230423Z
UID:3716-1631368800-1631379600@corvetteclubofrhodeisland.com
SUMMARY:Polo Match
DESCRIPTION:This event is always a great time. \nBe sure and sign up \nClick on   flyer
URL:https://corvetteclubofrhodeisland.com/event/polo-match/
LOCATION:Newport Polo\, 250 Linden Lane\, Portsmouth\, RI\, 02871\, United States
ATTACH;FMTTYPE=image/png:https://corvetteclubofrhodeisland.com/wp-content/uploads/Polo.png
END:VEVENT
BEGIN:VEVENT
DTSTART;TZID=America/New_York:20210907T183000
DTEND;TZID=America/New_York:20210907T200000
DTSTAMP:20260425T121727
CREATED:20210416T153100Z
LAST-MODIFIED:20210820T152806Z
UID:3687-1631039400-1631044800@corvetteclubofrhodeisland.com
SUMMARY:Monthly business meeting
DESCRIPTION:Our Monthly meetings will resume on the 1st Tuesday of every month\, with Covid safe precautions in effect. \nSept Date: Sept 7 \nNew start time: 6:30 pm \n  \n 
URL:https://corvetteclubofrhodeisland.com/event/monthly-business-meeting/
LOCATION:Shepherd of the Valley Church\, 604 Seven Mile Rd\, Hope\, RI\, 02831\, United States
ATTACH;FMTTYPE=image/jpeg:https://corvetteclubofrhodeisland.com/wp-content/uploads/Club-Meeting-scaled.jpg
END:VEVENT
BEGIN:VEVENT
DTSTART;TZID=America/New_York:20210828T110000
DTEND;TZID=America/New_York:20210828T170000
DTSTAMP:20260425T121727
CREATED:20210823T225302Z
LAST-MODIFIED:20210823T225302Z
UID:3886-1630148400-1630170000@corvetteclubofrhodeisland.com
SUMMARY:Ice Cream Cruise
DESCRIPTION:Kimball Farm Ice Cream Cruise\n Join us for a scenic cruise to an Ice Cream lovers paradise\, with an amazing lunch selection and country store\, located in Lancaster Ma. \nFlyer Here: Kimball Farm
URL:https://corvetteclubofrhodeisland.com/event/ice-cream-cruise/
LOCATION:Kimball Farm\, 1543 Lunenburg Rd\, Lancaster\, MA\, 01523\, United States
ATTACH;FMTTYPE=image/jpeg:https://corvetteclubofrhodeisland.com/wp-content/uploads/Kimball-Farm-.jpg
END:VEVENT
BEGIN:VEVENT
DTSTART;TZID=America/New_York:20210825T173000
DTEND;TZID=America/New_York:20210825T200000
DTSTAMP:20260425T121727
CREATED:20210515T130714Z
LAST-MODIFIED:20210823T230506Z
UID:3760-1629912600-1629921600@corvetteclubofrhodeisland.com
SUMMARY:Sunset Cruising
DESCRIPTION:Once again Club Members Joe and Elaine Gelineau will be hosting weekly sunset cruises to RI seaside locations \nStarting May 12th and continuing every Wed through the summer weather permitting. \nFlyer Here: Sunset Cruising
URL:https://corvetteclubofrhodeisland.com/event/sunset-cruising-2/
LOCATION:Scarborough Beach\, 970 Ocean Road\, Narragansett\, RI\, 02882\, United States
ATTACH;FMTTYPE=image/jpeg:https://corvetteclubofrhodeisland.com/wp-content/uploads/Sunset-Cruise-.jpg
END:VEVENT
BEGIN:VEVENT
DTSTART;TZID=America/New_York:20210818T173000
DTEND;TZID=America/New_York:20210818T200000
DTSTAMP:20260425T121727
CREATED:20210429T193055Z
LAST-MODIFIED:20210817T183127Z
UID:3733-1629307800-1629316800@corvetteclubofrhodeisland.com
SUMMARY:Sunset Cruising
DESCRIPTION: Once again Club Members Joe and Elaine Gelineau will be hosting weekly sunset cruises to RI seaside locations \nStarting May 12th and continuing every Wed through the summer weather permitting. \nFlyer Here: Sunset Cruising
URL:https://corvetteclubofrhodeisland.com/event/sunset-cruising/
LOCATION:Beavertail State Park\, Beavertail Rd\,\, Jamestown\, RI\, 02835\, United States
ATTACH;FMTTYPE=image/jpeg:https://corvetteclubofrhodeisland.com/wp-content/uploads/Sunset-Cruise-.jpg
END:VEVENT
BEGIN:VEVENT
DTSTART;TZID=America/New_York:20210731T113000
DTEND;TZID=America/New_York:20210731T150000
DTSTAMP:20260425T121727
CREATED:20210603T182358Z
LAST-MODIFIED:20210603T183123Z
UID:3789-1627731000-1627743600@corvetteclubofrhodeisland.com
SUMMARY:CCRI Summer Picnic
DESCRIPTION: Join us for a fun-filled day of games\, beautiful views\, music\, great food\, ice cream\, and all free to CCRI club members. \nAll information here: Summer Picnic Flyer \n 
URL:https://corvetteclubofrhodeisland.com/event/ccri-summer-picnic/
LOCATION:Scalabrini Villa\, 860 North Quidnessett Rd\, North Kingstown\, RI\, 02852\, United States
ATTACH;FMTTYPE=image/jpeg:https://corvetteclubofrhodeisland.com/wp-content/uploads/Scalabrini-Villa-copy.jpg
END:VEVENT
BEGIN:VEVENT
DTSTART;TZID=America/New_York:20210725T080000
DTEND;TZID=America/New_York:20210725T100000
DTSTAMP:20260425T121727
CREATED:20210417T204740Z
LAST-MODIFIED:20210709T221743Z
UID:3729-1627200000-1627207200@corvetteclubofrhodeisland.com
SUMMARY:Audrian Cars and Coffee
DESCRIPTION:This great summer event will return to Newport this year with multiple dates. \nTo attend you have to pre-register. Club Member Doug Lombardi will lead the group each time and may be contacted @(401) 489-8100 \nMeeting at the Showcase Cinema on the Corner of Quaker Lane and Division St at 7:30AM. \nEvent flyer: click here
URL:https://corvetteclubofrhodeisland.com/event/audrian-cars-and-coffee/
LOCATION:Aquidneck Club\, 1 Tower Dr\, Portsmouth\, RI\, 02871\, United States
ATTACH;FMTTYPE=image/png:https://corvetteclubofrhodeisland.com/wp-content/uploads/Unknown.png
END:VEVENT
BEGIN:VEVENT
DTSTART;TZID=America/New_York:20210719T180000
DTEND;TZID=America/New_York:20210719T210000
DTSTAMP:20260425T121727
CREATED:20210706T204627Z
LAST-MODIFIED:20210706T204627Z
UID:3831-1626717600-1626728400@corvetteclubofrhodeisland.com
SUMMARY:Corvette Cruise night at Copperfield's
DESCRIPTION:CORVETTE CLUB OF RHODE ISLAND CHARITY CRUISE NIGHT \nLOCATED AT THE NEWLY OPENED COPPERFIELD’S BURGER AND BEER HOUSE @ 678 KILLINGLY STREET JOHNSTON\, RHODE ISLAND ON MONDAY\, JULY 19\, 2021 \nMEET IN THE PARKING LOT THAT WILL BE BLOCKED OFF FOR PARKING \nFOOD AND DRINKS AVAILABLE INSIDE THE PUB \nTHE OWNER WILL BE DONATING TO OUR CHARITIES\, OPERATION STAND DOWN AND RHODE ISLAND COMMUNITY FOOD BANK. \nIF YOU ARE INTERESTED IN ATTENDING SIMPLY TEXT LILIANA V. DOLAN\, PRESIDENT AT 401-369-2881 \nOUR HOST KARIM MENEBHI IS THE OWNER \nTHIS SHOULD BE A FUN NIGHT – WEATHER PERMITTING. \nFlyer here: Copperfields
URL:https://corvetteclubofrhodeisland.com/event/corvette-cruise-night-at-copperfields/
LOCATION:Copperfields\, 678 Killingly St\, Johnston\,RI\, RI\, 022919\, United States
ATTACH;FMTTYPE=image/png:https://corvetteclubofrhodeisland.com/wp-content/uploads/Picture1.png
END:VEVENT
BEGIN:VEVENT
DTSTART;TZID=America/New_York:20210717T073000
DTEND;TZID=America/New_York:20210717T170000
DTSTAMP:20260425T121727
CREATED:20210505T192650Z
LAST-MODIFIED:20210505T205944Z
UID:3749-1626507000-1626541200@corvetteclubofrhodeisland.com
SUMMARY:Imsa Grand Prix Racing
DESCRIPTION:The IMSA WeatherTech SportsCar Championship is one of the premier sports car racing series in the United States and Canada organized by the International Motor Sports Association or IMSA for short. The series competes at some of North America’s most recognized sports car venues\, including Lime Rock Park for the Northeast Grand Prix held on July 16-17\, 2021. The WeatherTech SportsCar Championship features multiple classes of awe-inspiring sports cars racing on the track at the same time\, making for seemingly endless passing throughout the race. The majority of the races are timed races of 2 hours and 40 minutes. \nClub Member Randy Flock will be leading the group to the Track On Saturday\, July 17th. \nDetails and sign up can be found here: Flyer
URL:https://corvetteclubofrhodeisland.com/event/imsa-grand-prix-racing/
LOCATION:Imsa Racing\, Lime rock Park\, 60 White Hollow Road\, Lakeville\, CT\, 06039\, United States
ATTACH;FMTTYPE=image/jpeg:https://corvetteclubofrhodeisland.com/wp-content/uploads/Corvette-Racing.jpeg
END:VEVENT
BEGIN:VEVENT
DTSTART;TZID=America/New_York:20210711T080000
DTEND;TZID=America/New_York:20210711T100000
DTSTAMP:20260425T121727
CREATED:20210417T190752Z
LAST-MODIFIED:20210709T221303Z
UID:3723-1625990400-1625997600@corvetteclubofrhodeisland.com
SUMMARY:Audrain Cars and Coffee
DESCRIPTION:This great summer event will return to Newport this year with multiple dates. \nTo attend you have to pre-register. Club Member Doug Lombardi will lead the group each time and may be contacted @(401) 489-8100 \nMeeting at the Showcase Cinema on the Corner of Quaker Lane and Division St at 7:30 AM. \nEvent flyer: click here
URL:https://corvetteclubofrhodeisland.com/event/audrain-cars-and-coffee/
LOCATION:Salve Regina University\, 100 Ochre Point Ave\, Newport\, RI\, 02840\, United States
ATTACH;FMTTYPE=image/png:https://corvetteclubofrhodeisland.com/wp-content/uploads/Unknown.png
END:VEVENT
BEGIN:VEVENT
DTSTART;TZID=America/New_York:20210705T080000
DTEND;TZID=America/New_York:20210705T140000
DTSTAMP:20260425T121727
CREATED:20210504T183906Z
LAST-MODIFIED:20210504T183906Z
UID:3739-1625472000-1625493600@corvetteclubofrhodeisland.com
SUMMARY:Bristol 4th of July Parade
DESCRIPTION:CCRI members\, \nTake part in America’s oldest 4th of July parade this year\, in Bristol RI. with your Corvette. \nInformation required to participate: \nFull name of Owner: \nAddress and email: \nYear of Corvette: \nPhone #: \nDate of Parade:  Monday\, July 5th \nMeeting place and time: Cardi’s furniture Swansea Mass off Rt195 at 7:15 AM \nYou must have insurance. \nSign up deadline is June 1st \nAnyone interested must contact Ernie Nastari: enastari@msn.com  or (401) 533-1208 \n  \n  \n 
URL:https://corvetteclubofrhodeisland.com/event/bristol-4th-of-july-parade/
LOCATION:Bristol Parade\, 199 Chesnut Street\, Bristol\, RI\, 022809\, United States
ATTACH;FMTTYPE=image/jpeg:https://corvetteclubofrhodeisland.com/wp-content/uploads/Bristol-parade.jpg
END:VEVENT
BEGIN:VEVENT
DTSTART;TZID=America/New_York:20210627T120000
DTEND;TZID=America/New_York:20210627T170000
DTSTAMP:20260425T121727
CREATED:20210623T154457Z
LAST-MODIFIED:20210623T155213Z
UID:3815-1624795200-1624813200@corvetteclubofrhodeisland.com
SUMMARY:Festivals on a mission
DESCRIPTION:Great Event on a Sunday afternoon staring at the Ocean!!! Lots of Jeeps\, Beer\, Food Trucks\, Vendors\, Music\, Family Fun\, Games and room to Spread out and chill!! All to Benefit Mission 22 Veterans organization. \nClub Member Doug Lombardi will lead a group if you are interested and may be contacted @(401) 489-8100 \nFlyer here: 401 Jeep Wave
URL:https://corvetteclubofrhodeisland.com/event/festivals-on-a-mission/
LOCATION:Masonic Youth Center\, 116 Long Street\, Warwick\, RI\, 02886\, United States
ATTACH;FMTTYPE=image/jpeg:https://corvetteclubofrhodeisland.com/wp-content/uploads/401-Jeep-wave.jpg
END:VEVENT
BEGIN:VEVENT
DTSTART;VALUE=DATE:20210610
DTEND;VALUE=DATE:20210614
DTSTAMP:20260425T121727
CREATED:20210416T171110Z
LAST-MODIFIED:20210416T171159Z
UID:3694-1623283200-1623628799@corvetteclubofrhodeisland.com
SUMMARY:Back to the Beach Weekend
DESCRIPTION:Welcome to the 17th Annual \nBack to the Beach \nCorvette Weekend \nlocated in beautiful Old Orchard Beach\, Maine \nJune 10th thru the 13th\, 2021 \nPre-registration is required so book early \n 
URL:https://corvetteclubofrhodeisland.com/event/back-to-the-beach-weekend/
LOCATION:Back to the Beach\, Old Orchard Beach\, ME\, 04064\, United States
ATTACH;FMTTYPE=image/gif:https://corvetteclubofrhodeisland.com/wp-content/uploads/back-to-the-beach-logo.gif
END:VEVENT
END:VCALENDAR