BEGIN:VCALENDAR
VERSION:2.0
PRODID:-//Corvette Club of Rhode Island - ECPv6.15.20//NONSGML v1.0//EN
CALSCALE:GREGORIAN
METHOD:PUBLISH
X-ORIGINAL-URL:https://corvetteclubofrhodeisland.com
X-WR-CALDESC:Events for Corvette Club of Rhode Island
REFRESH-INTERVAL;VALUE=DURATION:PT1H
X-Robots-Tag:noindex
X-PUBLISHED-TTL:PT1H
BEGIN:VTIMEZONE
TZID:America/New_York
BEGIN:DAYLIGHT
TZOFFSETFROM:-0500
TZOFFSETTO:-0400
TZNAME:EDT
DTSTART:20250309T070000
END:DAYLIGHT
BEGIN:STANDARD
TZOFFSETFROM:-0400
TZOFFSETTO:-0500
TZNAME:EST
DTSTART:20251102T060000
END:STANDARD
BEGIN:DAYLIGHT
TZOFFSETFROM:-0500
TZOFFSETTO:-0400
TZNAME:EDT
DTSTART:20260308T070000
END:DAYLIGHT
BEGIN:STANDARD
TZOFFSETFROM:-0400
TZOFFSETTO:-0500
TZNAME:EST
DTSTART:20261101T060000
END:STANDARD
BEGIN:DAYLIGHT
TZOFFSETFROM:-0500
TZOFFSETTO:-0400
TZNAME:EDT
DTSTART:20270314T070000
END:DAYLIGHT
BEGIN:STANDARD
TZOFFSETFROM:-0400
TZOFFSETTO:-0500
TZNAME:EST
DTSTART:20271107T060000
END:STANDARD
END:VTIMEZONE
BEGIN:VEVENT
DTSTART;TZID=America/New_York:20260712T120000
DTEND;TZID=America/New_York:20260712T170000
DTSTAMP:20260423T183059
CREATED:20260309T201328Z
LAST-MODIFIED:20260309T201537Z
UID:4936-1783857600-1783875600@corvetteclubofrhodeisland.com
SUMMARY:CCRI Family Picnic
DESCRIPTION:FOOD TRUCK WILL BE ON PREMISES FOR PURCHASE BY \nMIKE’S CLAM TRUCK \nCHOWDER\, CLAM CAKES\, HAMBURGERS\, HOT DOGS\, AND MORE \nICE CREAM BY PALAGI ICE CREAM \nBRING SIDE DISHES (A SIGN-UP SHEET WILL BE TAKEN) – LIMITED TO 80 PEOPLE \nBRING CHAIRS TO SIT BY YOUR CAR – HOWEVER THE HALL CAN ACCOMMODATE 80 \nPEOPLE WITH TABLE AND CHAIRS (THIS IS A RAIN OR SHINE EVENT) \nMUSIC PROVIDED BY MEMBERS SO BRING YOUR SPEAKERS \nFEEL FREE TO INVITE FAMILY OR FRIENDS FOR A RELAXING AFTERNOON \nMUSIC\, FOOD\, GAMES AND RELAXING \nNO LIQUOR IS ALLOWED ON PREMISES – ANY QUESTIONS CONTACT \nLILIANA V. DOLAN AT CCOFRI@GMAIL.COM \nFlyer here
URL:https://corvetteclubofrhodeisland.com/event/ccri-family-picnic/
LOCATION:Governor Notte State Park\, 1810 Mineral Spring Ave\, North Providence\, RI\, 02911\, United States
ATTACH;FMTTYPE=image/jpeg:https://corvetteclubofrhodeisland.com/wp-content/uploads/images-1.jpeg
END:VEVENT
END:VCALENDAR