BEGIN:VCALENDAR
VERSION:2.0
PRODID:-//Corvette Club of Rhode Island - ECPv6.15.20//NONSGML v1.0//EN
CALSCALE:GREGORIAN
METHOD:PUBLISH
X-WR-CALNAME:Corvette Club of Rhode Island
X-ORIGINAL-URL:https://corvetteclubofrhodeisland.com
X-WR-CALDESC:Events for Corvette Club of Rhode Island
REFRESH-INTERVAL;VALUE=DURATION:PT1H
X-Robots-Tag:noindex
X-PUBLISHED-TTL:PT1H
BEGIN:VTIMEZONE
TZID:America/New_York
BEGIN:DAYLIGHT
TZOFFSETFROM:-0500
TZOFFSETTO:-0400
TZNAME:EDT
DTSTART:20250309T070000
END:DAYLIGHT
BEGIN:STANDARD
TZOFFSETFROM:-0400
TZOFFSETTO:-0500
TZNAME:EST
DTSTART:20251102T060000
END:STANDARD
BEGIN:DAYLIGHT
TZOFFSETFROM:-0500
TZOFFSETTO:-0400
TZNAME:EDT
DTSTART:20260308T070000
END:DAYLIGHT
BEGIN:STANDARD
TZOFFSETFROM:-0400
TZOFFSETTO:-0500
TZNAME:EST
DTSTART:20261101T060000
END:STANDARD
BEGIN:DAYLIGHT
TZOFFSETFROM:-0500
TZOFFSETTO:-0400
TZNAME:EDT
DTSTART:20270314T070000
END:DAYLIGHT
BEGIN:STANDARD
TZOFFSETFROM:-0400
TZOFFSETTO:-0500
TZNAME:EST
DTSTART:20271107T060000
END:STANDARD
END:VTIMEZONE
BEGIN:VEVENT
DTSTART;TZID=America/New_York:20260620T110000
DTEND;TZID=America/New_York:20260620T160000
DTSTAMP:20260423T170300
CREATED:20260421T164358Z
LAST-MODIFIED:20260421T164358Z
UID:4958-1781953200-1781971200@corvetteclubofrhodeisland.com
SUMMARY:BBQ at Thompson Speedway
DESCRIPTION:Don’t miss this fun day at Thompson Speedway. \nIn this event\, you will follow a pace car on  the track for  about 3 laps around the 1.7-mile road course (depending on how many cars we have attending). We will then have a BBQ luncheon in the dining area. There is no limit on this event but please contact Deb Papineau  @ debbieccri@gmail.com  so she can keep track of ordering meals etc. \nWe will be meeting at the Dunkin on Chopmist Hill Rd in N. Scituate at 10 am leaving at 10:30. Meal and pricing is on the attached flyer. \nFlyer here:
URL:https://corvetteclubofrhodeisland.com/event/bbq-at-thompson-speedway-3/
LOCATION:Thompson Speedway\, 205E Thompson Rd\, CT\, 06277\, United States
ATTACH;FMTTYPE=image/png:https://corvetteclubofrhodeisland.com/wp-content/uploads/Thompson-Speedway-logo.png
END:VEVENT
END:VCALENDAR