BEGIN:VCALENDAR
VERSION:2.0
PRODID:-//Corvette Club of Rhode Island - ECPv6.15.20//NONSGML v1.0//EN
CALSCALE:GREGORIAN
METHOD:PUBLISH
X-ORIGINAL-URL:https://corvetteclubofrhodeisland.com
X-WR-CALDESC:Events for Corvette Club of Rhode Island
REFRESH-INTERVAL;VALUE=DURATION:PT1H
X-Robots-Tag:noindex
X-PUBLISHED-TTL:PT1H
BEGIN:VTIMEZONE
TZID:America/New_York
BEGIN:DAYLIGHT
TZOFFSETFROM:-0500
TZOFFSETTO:-0400
TZNAME:EDT
DTSTART:20240310T070000
END:DAYLIGHT
BEGIN:STANDARD
TZOFFSETFROM:-0400
TZOFFSETTO:-0500
TZNAME:EST
DTSTART:20241103T060000
END:STANDARD
BEGIN:DAYLIGHT
TZOFFSETFROM:-0500
TZOFFSETTO:-0400
TZNAME:EDT
DTSTART:20250309T070000
END:DAYLIGHT
BEGIN:STANDARD
TZOFFSETFROM:-0400
TZOFFSETTO:-0500
TZNAME:EST
DTSTART:20251102T060000
END:STANDARD
BEGIN:DAYLIGHT
TZOFFSETFROM:-0500
TZOFFSETTO:-0400
TZNAME:EDT
DTSTART:20260308T070000
END:DAYLIGHT
BEGIN:STANDARD
TZOFFSETFROM:-0400
TZOFFSETTO:-0500
TZNAME:EST
DTSTART:20261101T060000
END:STANDARD
END:VTIMEZONE
BEGIN:VEVENT
DTSTART;TZID=America/New_York:20251018T180000
DTEND;TZID=America/New_York:20251018T220000
DTSTAMP:20260423T233125
CREATED:20250603T200157Z
LAST-MODIFIED:20250603T200511Z
UID:4799-1760810400-1760824800@corvetteclubofrhodeisland.com
SUMMARY:Dinner & Comedy Show
DESCRIPTION:Join us at Bella Restaurant on Saturday October18th for a great family style meal\, followed by a night of laughs\, from a funny group of comedians. \nCheck out all the details on the attached flyer and sign up early to reserve your seat. \nFlyer here:
URL:https://corvetteclubofrhodeisland.com/event/dinner-comedy-show/
LOCATION:Bellas Restaurant\, 1992 Victory Highway\, Glendale\, RI\, 02826\, United States
ATTACH;FMTTYPE=image/jpeg:https://corvetteclubofrhodeisland.com/wp-content/uploads/Bellas-restaurant.jpeg
END:VEVENT
END:VCALENDAR