BEGIN:VCALENDAR
VERSION:2.0
PRODID:-//Corvette Club of Rhode Island - ECPv6.15.20//NONSGML v1.0//EN
CALSCALE:GREGORIAN
METHOD:PUBLISH
X-ORIGINAL-URL:https://corvetteclubofrhodeisland.com
X-WR-CALDESC:Events for Corvette Club of Rhode Island
REFRESH-INTERVAL;VALUE=DURATION:PT1H
X-Robots-Tag:noindex
X-PUBLISHED-TTL:PT1H
BEGIN:VTIMEZONE
TZID:America/New_York
BEGIN:DAYLIGHT
TZOFFSETFROM:-0500
TZOFFSETTO:-0400
TZNAME:EDT
DTSTART:20240310T070000
END:DAYLIGHT
BEGIN:STANDARD
TZOFFSETFROM:-0400
TZOFFSETTO:-0500
TZNAME:EST
DTSTART:20241103T060000
END:STANDARD
BEGIN:DAYLIGHT
TZOFFSETFROM:-0500
TZOFFSETTO:-0400
TZNAME:EDT
DTSTART:20250309T070000
END:DAYLIGHT
BEGIN:STANDARD
TZOFFSETFROM:-0400
TZOFFSETTO:-0500
TZNAME:EST
DTSTART:20251102T060000
END:STANDARD
BEGIN:DAYLIGHT
TZOFFSETFROM:-0500
TZOFFSETTO:-0400
TZNAME:EDT
DTSTART:20260308T070000
END:DAYLIGHT
BEGIN:STANDARD
TZOFFSETFROM:-0400
TZOFFSETTO:-0500
TZNAME:EST
DTSTART:20261101T060000
END:STANDARD
END:VTIMEZONE
BEGIN:VEVENT
DTSTART;TZID=America/New_York:20251004T090000
DTEND;TZID=America/New_York:20251004T170000
DTSTAMP:20260423T233117
CREATED:20250630T171619Z
LAST-MODIFIED:20250911T193824Z
UID:4816-1759568400-1759597200@corvetteclubofrhodeisland.com
SUMMARY:Corvette Corral During Audrains MotorWeek Sat Oct 4th
DESCRIPTION:Corvette only Corral parking on the lawn of the beautiful Newport Elks Lodge located at 141 Pelham Street corner of Bellevue Ave\, only 2 blocks from all the Audrain’s action-packed events\, on Saturday October 4th 9AM-5PM \nFirst come first serve for parking spots and availability \n$30 at the door or $20 advance payment to reserve a spot rain or shine \nCall Rich 973-816-5932 or Steve 401-286-5769 \nThis event will benefit the Newport Elks Lodge 104
URL:https://corvetteclubofrhodeisland.com/event/corvette-corral-at-the-audrain-grand-concourse-2/
LOCATION:Newport Elks Lodge\, 141 Pelham Street\, Newport\, RI\, United States
ATTACH;FMTTYPE=image/jpeg:https://corvetteclubofrhodeisland.com/wp-content/uploads/hq720.jpg
END:VEVENT
END:VCALENDAR