BEGIN:VCALENDAR
VERSION:2.0
PRODID:-//Corvette Club of Rhode Island - ECPv6.15.20//NONSGML v1.0//EN
CALSCALE:GREGORIAN
METHOD:PUBLISH
X-ORIGINAL-URL:https://corvetteclubofrhodeisland.com
X-WR-CALDESC:Events for Corvette Club of Rhode Island
REFRESH-INTERVAL;VALUE=DURATION:PT1H
X-Robots-Tag:noindex
X-PUBLISHED-TTL:PT1H
BEGIN:VTIMEZONE
TZID:America/New_York
BEGIN:DAYLIGHT
TZOFFSETFROM:-0500
TZOFFSETTO:-0400
TZNAME:EDT
DTSTART:20240310T070000
END:DAYLIGHT
BEGIN:STANDARD
TZOFFSETFROM:-0400
TZOFFSETTO:-0500
TZNAME:EST
DTSTART:20241103T060000
END:STANDARD
BEGIN:DAYLIGHT
TZOFFSETFROM:-0500
TZOFFSETTO:-0400
TZNAME:EDT
DTSTART:20250309T070000
END:DAYLIGHT
BEGIN:STANDARD
TZOFFSETFROM:-0400
TZOFFSETTO:-0500
TZNAME:EST
DTSTART:20251102T060000
END:STANDARD
BEGIN:DAYLIGHT
TZOFFSETFROM:-0500
TZOFFSETTO:-0400
TZNAME:EDT
DTSTART:20260308T070000
END:DAYLIGHT
BEGIN:STANDARD
TZOFFSETFROM:-0400
TZOFFSETTO:-0500
TZNAME:EST
DTSTART:20261101T060000
END:STANDARD
END:VTIMEZONE
BEGIN:VEVENT
DTSTART;TZID=America/New_York:20250604T170000
DTEND;TZID=America/New_York:20250604T200000
DTSTAMP:20260424T065555
CREATED:20250531T194553Z
LAST-MODIFIED:20250531T194553Z
UID:4790-1749056400-1749067200@corvetteclubofrhodeisland.com
SUMMARY:Sunset Cruise
DESCRIPTION:This years Sunset Cruises will be hosted by Activity committee members \nStarting June 4th and continuing every other Wed through the summer Weather permitting \nDate: June 4 \nTime: Meeting Place: Park & Ride on Hopkins Hill Rd in Coventry at exit 19 off rt 95 \nMeet: at 5 leave at 5:30 PM \nDestination: Beavertail State Park\, Jamestown\, RI \nHosted By: Warner & Elizabeth Dauphinee \nFlyer here \nBring your own snacks\, drinks\, chairs and enjoy beautiful seaside sunsets
URL:https://corvetteclubofrhodeisland.com/event/sunset-cruise-12/
LOCATION:Beavertail State Park\, Beavertail Rd\,\, Jamestown\, RI\, 02835\, United States
ATTACH;FMTTYPE=image/jpeg:https://corvetteclubofrhodeisland.com/wp-content/uploads/Sunset-Cruise-.jpg
END:VEVENT
END:VCALENDAR