BEGIN:VCALENDAR
VERSION:2.0
PRODID:-//Corvette Club of Rhode Island - ECPv6.15.20//NONSGML v1.0//EN
CALSCALE:GREGORIAN
METHOD:PUBLISH
X-ORIGINAL-URL:https://corvetteclubofrhodeisland.com
X-WR-CALDESC:Events for Corvette Club of Rhode Island
REFRESH-INTERVAL;VALUE=DURATION:PT1H
X-Robots-Tag:noindex
X-PUBLISHED-TTL:PT1H
BEGIN:VTIMEZONE
TZID:America/New_York
BEGIN:DAYLIGHT
TZOFFSETFROM:-0500
TZOFFSETTO:-0400
TZNAME:EDT
DTSTART:20230312T070000
END:DAYLIGHT
BEGIN:STANDARD
TZOFFSETFROM:-0400
TZOFFSETTO:-0500
TZNAME:EST
DTSTART:20231105T060000
END:STANDARD
BEGIN:DAYLIGHT
TZOFFSETFROM:-0500
TZOFFSETTO:-0400
TZNAME:EDT
DTSTART:20240310T070000
END:DAYLIGHT
BEGIN:STANDARD
TZOFFSETFROM:-0400
TZOFFSETTO:-0500
TZNAME:EST
DTSTART:20241103T060000
END:STANDARD
BEGIN:DAYLIGHT
TZOFFSETFROM:-0500
TZOFFSETTO:-0400
TZNAME:EDT
DTSTART:20250309T070000
END:DAYLIGHT
BEGIN:STANDARD
TZOFFSETFROM:-0400
TZOFFSETTO:-0500
TZNAME:EST
DTSTART:20251102T060000
END:STANDARD
END:VTIMEZONE
BEGIN:VEVENT
DTSTART;TZID=America/New_York:20240310T103000
DTEND;TZID=America/New_York:20240310T123000
DTSTAMP:20260425T071332
CREATED:20240129T225755Z
LAST-MODIFIED:20240207T201957Z
UID:4469-1710066600-1710073800@corvetteclubofrhodeisland.com
SUMMARY:CCRI Brunch Social
DESCRIPTION:DATE: MARCH 10\, 2023\nTIME: 10:30 A.M.\nCOST: $37.00 INCLUDES TAX AND TIP – AND THE SERVER WILL COLLECT AT THE TABLE (SEPARATE CHECKS) IF PAYING CASH\, PLEASE HAVE EXACT CHANGE.\nHOSTING THIS EVENT: JAMES AND ROSEMARY CAMPANINI\nTHERE WILL BE A SIGN-UP SHEET FOR ANYONE THAT IS INTERESTED –\nIF YOU HAVE ANY QUESTIONS PLEASE CONTACT ROSEMARY CAMPANINI AT SILVERLADY925@COX.NET OR \nLINDA LANGLOIS AT LANGLOISl2424@GMAIL.COM \nWe hope to see you at this event…the food is always delicious and plentiful and the turnout is always great (LIMITED TO THE FIRST 40 PEOPLE TO SIGN UP) \n\n\n\n\n 
URL:https://corvetteclubofrhodeisland.com/event/ccri-brunch-social/
LOCATION:Johnnys @ The Wyndham Hotel\, 240 Aquidneck ave\, Middletown\, RI\, 02842\, United States
ATTACH;FMTTYPE=image/jpeg:https://corvetteclubofrhodeisland.com/wp-content/uploads/1-115.jpg
END:VEVENT
END:VCALENDAR