BEGIN:VCALENDAR
VERSION:2.0
PRODID:-//Corvette Club of Rhode Island - ECPv6.15.20//NONSGML v1.0//EN
CALSCALE:GREGORIAN
METHOD:PUBLISH
X-ORIGINAL-URL:https://corvetteclubofrhodeisland.com
X-WR-CALDESC:Events for Corvette Club of Rhode Island
REFRESH-INTERVAL;VALUE=DURATION:PT1H
X-Robots-Tag:noindex
X-PUBLISHED-TTL:PT1H
BEGIN:VTIMEZONE
TZID:America/New_York
BEGIN:DAYLIGHT
TZOFFSETFROM:-0500
TZOFFSETTO:-0400
TZNAME:EDT
DTSTART:20220313T070000
END:DAYLIGHT
BEGIN:STANDARD
TZOFFSETFROM:-0400
TZOFFSETTO:-0500
TZNAME:EST
DTSTART:20221106T060000
END:STANDARD
BEGIN:DAYLIGHT
TZOFFSETFROM:-0500
TZOFFSETTO:-0400
TZNAME:EDT
DTSTART:20230312T070000
END:DAYLIGHT
BEGIN:STANDARD
TZOFFSETFROM:-0400
TZOFFSETTO:-0500
TZNAME:EST
DTSTART:20231105T060000
END:STANDARD
BEGIN:DAYLIGHT
TZOFFSETFROM:-0500
TZOFFSETTO:-0400
TZNAME:EDT
DTSTART:20240310T070000
END:DAYLIGHT
BEGIN:STANDARD
TZOFFSETFROM:-0400
TZOFFSETTO:-0500
TZNAME:EST
DTSTART:20241103T060000
END:STANDARD
END:VTIMEZONE
BEGIN:VEVENT
DTSTART;TZID=America/New_York:20230604T080000
DTEND;TZID=America/New_York:20230604T153000
DTSTAMP:20260425T211437
CREATED:20230216T214629Z
LAST-MODIFIED:20230216T215428Z
UID:4240-1685865600-1685892600@corvetteclubofrhodeisland.com
SUMMARY:Corvette show and swap meet
DESCRIPTION:Each summer\, Club Corvette of Connecticut conducts one of the largest Corvette-only judged shows in the Northeast. For several years\, the event has featured more than 250 examples of Corvettes in varying vintages and styles\, representing all facets of the model’s 65-year history. Cars on display range from original C1s from the 1950s\, to all sorts of modified ‘Vettes\, to the newest mid-engine C8s. \nThe public is invited to come and experience in person the quintessential American sports car and its rich history. Vendors will be on-site offering Corvette and automotive memorabilia for sale; a variety of foods\, beverages and other refreshments should also be available for purchase. \nNet proceeds from the show are donated to the club’s adopted charity\, The Ronald McDonald House\, and other Connecticut charities. \nFlyer here: Corvette show and swap meet
URL:https://corvetteclubofrhodeisland.com/event/corvette-show-and-swap-meet-2/
LOCATION:Moroso Performance Products\, 80 Carter Dr\, Guilford\, CT\, 06437\, United States
ATTACH;FMTTYPE=image/jpeg:https://corvetteclubofrhodeisland.com/wp-content/uploads/Unknown.jpeg
END:VEVENT
END:VCALENDAR